BEGIN:VCALENDAR
VERSION:2.0
PRODID:-//Grabuge Mag - ECPv6.15.14//NONSGML v1.0//EN
CALSCALE:GREGORIAN
METHOD:PUBLISH
X-WR-CALNAME:Grabuge Mag
X-ORIGINAL-URL:https://www.grabugemag.com
X-WR-CALDESC:Évènements pour Grabuge Mag
REFRESH-INTERVAL;VALUE=DURATION:PT1H
X-Robots-Tag:noindex
X-PUBLISHED-TTL:PT1H
BEGIN:VTIMEZONE
TZID:Europe/Paris
BEGIN:DAYLIGHT
TZOFFSETFROM:+0100
TZOFFSETTO:+0200
TZNAME:CEST
DTSTART:20250330T010000
END:DAYLIGHT
BEGIN:STANDARD
TZOFFSETFROM:+0200
TZOFFSETTO:+0100
TZNAME:CET
DTSTART:20251026T010000
END:STANDARD
BEGIN:DAYLIGHT
TZOFFSETFROM:+0100
TZOFFSETTO:+0200
TZNAME:CEST
DTSTART:20260329T010000
END:DAYLIGHT
BEGIN:STANDARD
TZOFFSETFROM:+0200
TZOFFSETTO:+0100
TZNAME:CET
DTSTART:20261025T010000
END:STANDARD
BEGIN:DAYLIGHT
TZOFFSETFROM:+0100
TZOFFSETTO:+0200
TZNAME:CEST
DTSTART:20270328T010000
END:DAYLIGHT
BEGIN:STANDARD
TZOFFSETFROM:+0200
TZOFFSETTO:+0100
TZNAME:CET
DTSTART:20271031T010000
END:STANDARD
END:VTIMEZONE
BEGIN:VEVENT
DTSTART;TZID=Europe/Paris:20260520T203000
DTEND;TZID=Europe/Paris:20260520T233000
DTSTAMP:20260420T150632
CREATED:20260310T111516Z
LAST-MODIFIED:20260407T131013Z
UID:10018996-1779309000-1779319800@www.grabugemag.com
SUMMARY:Quizz Prime
DESCRIPTION:C’est le retour du Quiz Prime à l’Atomic’s !  \nVous pensez être incollables en pop culture ?\nMusique\, cinéma\, séries\, jeux vidéo\, classiques cultes ou références obscures… c’est le moment de le prouver ! \nVenez tester vos connaissances\, défier vos amis et tenter de devenir les champions de la soirée dans une ambiance conviviale et pleine de bonne humeur. \nQue vous soyez un expert des films cultes\, un passionné de musique ou simplement là pour passer un bon moment\, le Quiz Prime est ouvert à tous ! \n Le tout bien sûr autour d’un bon verre à l’Atomic’s. \nAlors formez votre équipe\, affûtez vos neurones et venez jouer avec nous !
URL:https://www.grabugemag.com/evenement/quizz-prime-2/2026-05-20/
LOCATION:Atomic’s Café\, 6 cours Olivier de Clisson\, Nantes\, 44000\, France
CATEGORIES:Gratuit,Lifestyle
ATTACH;FMTTYPE=image/jpeg:https://www.grabugemag.com/wp-content/uploads/2026/03/WhatsApp-Image-2026-03-09-at-13.59.00-1.jpeg
END:VEVENT
BEGIN:VEVENT
DTSTART;TZID=Europe/Paris:20260617T203000
DTEND;TZID=Europe/Paris:20260617T233000
DTSTAMP:20260420T150632
CREATED:20260310T111516Z
LAST-MODIFIED:20260407T131013Z
UID:10018997-1781728200-1781739000@www.grabugemag.com
SUMMARY:Quizz Prime
DESCRIPTION:C’est le retour du Quiz Prime à l’Atomic’s !  \nVous pensez être incollables en pop culture ?\nMusique\, cinéma\, séries\, jeux vidéo\, classiques cultes ou références obscures… c’est le moment de le prouver ! \nVenez tester vos connaissances\, défier vos amis et tenter de devenir les champions de la soirée dans une ambiance conviviale et pleine de bonne humeur. \nQue vous soyez un expert des films cultes\, un passionné de musique ou simplement là pour passer un bon moment\, le Quiz Prime est ouvert à tous ! \n Le tout bien sûr autour d’un bon verre à l’Atomic’s. \nAlors formez votre équipe\, affûtez vos neurones et venez jouer avec nous !
URL:https://www.grabugemag.com/evenement/quizz-prime-2/2026-06-17/
LOCATION:Atomic’s Café\, 6 cours Olivier de Clisson\, Nantes\, 44000\, France
CATEGORIES:Gratuit,Lifestyle
ATTACH;FMTTYPE=image/jpeg:https://www.grabugemag.com/wp-content/uploads/2026/03/WhatsApp-Image-2026-03-09-at-13.59.00-1.jpeg
END:VEVENT
END:VCALENDAR