BEGIN:VCALENDAR
VERSION:2.0
PRODID:-//Grabuge Mag - ECPv6.15.14//NONSGML v1.0//EN
CALSCALE:GREGORIAN
METHOD:PUBLISH
X-WR-CALNAME:Grabuge Mag
X-ORIGINAL-URL:https://www.grabugemag.com
X-WR-CALDESC:Évènements pour Grabuge Mag
REFRESH-INTERVAL;VALUE=DURATION:PT1H
X-Robots-Tag:noindex
X-PUBLISHED-TTL:PT1H
BEGIN:VTIMEZONE
TZID:Europe/Paris
BEGIN:DAYLIGHT
TZOFFSETFROM:+0100
TZOFFSETTO:+0200
TZNAME:CEST
DTSTART:20250330T010000
END:DAYLIGHT
BEGIN:STANDARD
TZOFFSETFROM:+0200
TZOFFSETTO:+0100
TZNAME:CET
DTSTART:20251026T010000
END:STANDARD
BEGIN:DAYLIGHT
TZOFFSETFROM:+0100
TZOFFSETTO:+0200
TZNAME:CEST
DTSTART:20260329T010000
END:DAYLIGHT
BEGIN:STANDARD
TZOFFSETFROM:+0200
TZOFFSETTO:+0100
TZNAME:CET
DTSTART:20261025T010000
END:STANDARD
BEGIN:DAYLIGHT
TZOFFSETFROM:+0100
TZOFFSETTO:+0200
TZNAME:CEST
DTSTART:20270328T010000
END:DAYLIGHT
BEGIN:STANDARD
TZOFFSETFROM:+0200
TZOFFSETTO:+0100
TZNAME:CET
DTSTART:20271031T010000
END:STANDARD
END:VTIMEZONE
BEGIN:VEVENT
DTSTART;TZID=Europe/Paris:20260507T200000
DTEND;TZID=Europe/Paris:20260507T233000
DTSTAMP:20260420T225140
CREATED:20260310T114354Z
LAST-MODIFIED:20260407T131339Z
UID:10018999-1778184000-1778196600@www.grabugemag.com
SUMMARY:At’ Openmic
DESCRIPTION:🎤🔥 Open Mic + DJ Set à l’Atomic’s Café ! 🔥🎧 \nVendredi 13 mars\, la scène de l’Atomic’s est 100% rap. \nMC confirmés\, jeunes talents ou freestyleurs du comptoir :\nsi vous avez des lyrics\, du flow et quelque chose à dire\, le micro est à vous. \nVenez poser vos textes\, tester vos sons et partager l’énergie du rap dans une ambiance brute et conviviale. Que ce soit un freestyle\, un couplet ou un morceau complet\, la scène est ouverte. \nEt pour continuer la vibe après l’Open Mic\, DJ Set rap/hip-hop pour faire monter l’ambiance toute la soirée.
URL:https://www.grabugemag.com/evenement/at-openmic/2026-05-07/
LOCATION:Atomic’s Café\, 6 cours Olivier de Clisson\, Nantes\, 44000\, France
CATEGORIES:Gratuit
ATTACH;FMTTYPE=image/jpeg:https://www.grabugemag.com/wp-content/uploads/2026/03/WhatsApp-Image-2026-03-10-at-12.22.39.jpeg
END:VEVENT
BEGIN:VEVENT
DTSTART;TZID=Europe/Paris:20260612T200000
DTEND;TZID=Europe/Paris:20260612T233000
DTSTAMP:20260420T225140
CREATED:20260310T114354Z
LAST-MODIFIED:20260407T131339Z
UID:10019000-1781294400-1781307000@www.grabugemag.com
SUMMARY:At’ Openmic
DESCRIPTION:🎤🔥 Open Mic + DJ Set à l’Atomic’s Café ! 🔥🎧 \nVendredi 13 mars\, la scène de l’Atomic’s est 100% rap. \nMC confirmés\, jeunes talents ou freestyleurs du comptoir :\nsi vous avez des lyrics\, du flow et quelque chose à dire\, le micro est à vous. \nVenez poser vos textes\, tester vos sons et partager l’énergie du rap dans une ambiance brute et conviviale. Que ce soit un freestyle\, un couplet ou un morceau complet\, la scène est ouverte. \nEt pour continuer la vibe après l’Open Mic\, DJ Set rap/hip-hop pour faire monter l’ambiance toute la soirée.
URL:https://www.grabugemag.com/evenement/at-openmic/2026-06-12/
LOCATION:Atomic’s Café\, 6 cours Olivier de Clisson\, Nantes\, 44000\, France
CATEGORIES:Gratuit
ATTACH;FMTTYPE=image/jpeg:https://www.grabugemag.com/wp-content/uploads/2026/03/WhatsApp-Image-2026-03-10-at-12.22.39.jpeg
END:VEVENT
END:VCALENDAR