BEGIN:VCALENDAR
VERSION:2.0
PRODID:-//Grabuge Mag - ECPv6.15.14//NONSGML v1.0//EN
CALSCALE:GREGORIAN
METHOD:PUBLISH
X-WR-CALNAME:Grabuge Mag
X-ORIGINAL-URL:https://www.grabugemag.com
X-WR-CALDESC:Évènements pour Grabuge Mag
REFRESH-INTERVAL;VALUE=DURATION:PT1H
X-Robots-Tag:noindex
X-PUBLISHED-TTL:PT1H
BEGIN:VTIMEZONE
TZID:Europe/Paris
BEGIN:DAYLIGHT
TZOFFSETFROM:+0100
TZOFFSETTO:+0200
TZNAME:CEST
DTSTART:20250330T010000
END:DAYLIGHT
BEGIN:STANDARD
TZOFFSETFROM:+0200
TZOFFSETTO:+0100
TZNAME:CET
DTSTART:20251026T010000
END:STANDARD
BEGIN:DAYLIGHT
TZOFFSETFROM:+0100
TZOFFSETTO:+0200
TZNAME:CEST
DTSTART:20260329T010000
END:DAYLIGHT
BEGIN:STANDARD
TZOFFSETFROM:+0200
TZOFFSETTO:+0100
TZNAME:CET
DTSTART:20261025T010000
END:STANDARD
BEGIN:DAYLIGHT
TZOFFSETFROM:+0100
TZOFFSETTO:+0200
TZNAME:CEST
DTSTART:20270328T010000
END:DAYLIGHT
BEGIN:STANDARD
TZOFFSETFROM:+0200
TZOFFSETTO:+0100
TZNAME:CET
DTSTART:20271031T010000
END:STANDARD
END:VTIMEZONE
BEGIN:VEVENT
DTSTART;VALUE=DATE:20260506
DTEND;VALUE=DATE:20260719
DTSTAMP:20260423T165205
CREATED:20260415T131129Z
LAST-MODIFIED:20260415T131320Z
UID:10019036-1778025600-1784419199@www.grabugemag.com
SUMMARY:Célie Falières : Bulbe Seuil Fumée
DESCRIPTION:Célie Falières parcourt la caserne Mellinet et les recycleries à la recherche de matières — bourgeon\, ajonc\, datura\, brique\, cuivre. Habitée par la métamorphose de son ventre\, elle fabrique au plus profond de ses tripes des cils\, de la peau\, des organes. En écho\, elle façonne la terre\, cuite au feu de bois\, pour former poumons et pancréas. L’artiste explore les seuils de transformation des matériaux : lorsque les végétaux partent en fumée et impriment leurs traces sur le verre\, lorsque la calamine se mêle à l’émail\, lorsque l’oignon\, à la fois pourrit et germe. « Bulbe Seuil Fumée » se présente tel un petit édifice sacré dédié aux divinités du foyer. \nL’exposition fait suite à une résidence artistique accompagnée par les ateliers Factotum : Émaux Métaux ‒ Maître d’art et Arcam Glass\, à une formation en émaillage sur métaux via l’Afdas et à une cuisson bois réalisée à la Maison du Potier du Fuilet.
URL:https://www.grabugemag.com/evenement/celie-falieres-bulbe-seuil-fumee/
LOCATION:Les Petites Écuries – Arts du feu et du faire\, 1 - 4 Square Mathurin Meheut\, Nantes\, 44000
CATEGORIES:Exposition
ATTACH;FMTTYPE=image/jpeg:https://www.grabugemag.com/wp-content/uploads/2026/04/Célie-Falières_Exposition-Bulbe-Seuil-Fumée_Photographie-Philippe-Piron.jpg
ORGANIZER;CN="Les Petites %C3%89curies - Arts du feu et du faire":MAILTO:contact@lesfactotum.fr
END:VEVENT
END:VCALENDAR