BEGIN:VCALENDAR
VERSION:2.0
PRODID:-//Grabuge Mag - ECPv6.15.14//NONSGML v1.0//EN
CALSCALE:GREGORIAN
METHOD:PUBLISH
X-WR-CALNAME:Grabuge Mag
X-ORIGINAL-URL:https://www.grabugemag.com
X-WR-CALDESC:Évènements pour Grabuge Mag
REFRESH-INTERVAL;VALUE=DURATION:PT1H
X-Robots-Tag:noindex
X-PUBLISHED-TTL:PT1H
BEGIN:VTIMEZONE
TZID:Europe/Paris
BEGIN:DAYLIGHT
TZOFFSETFROM:+0100
TZOFFSETTO:+0200
TZNAME:CEST
DTSTART:20250330T010000
END:DAYLIGHT
BEGIN:STANDARD
TZOFFSETFROM:+0200
TZOFFSETTO:+0100
TZNAME:CET
DTSTART:20251026T010000
END:STANDARD
BEGIN:DAYLIGHT
TZOFFSETFROM:+0100
TZOFFSETTO:+0200
TZNAME:CEST
DTSTART:20260329T010000
END:DAYLIGHT
BEGIN:STANDARD
TZOFFSETFROM:+0200
TZOFFSETTO:+0100
TZNAME:CET
DTSTART:20261025T010000
END:STANDARD
BEGIN:DAYLIGHT
TZOFFSETFROM:+0100
TZOFFSETTO:+0200
TZNAME:CEST
DTSTART:20270328T010000
END:DAYLIGHT
BEGIN:STANDARD
TZOFFSETFROM:+0200
TZOFFSETTO:+0100
TZNAME:CET
DTSTART:20271031T010000
END:STANDARD
END:VTIMEZONE
BEGIN:VEVENT
DTSTART;TZID=Europe/Paris:20260509T183000
DTEND;TZID=Europe/Paris:20260509T194500
DTSTAMP:20260424T080646
CREATED:20260324T123205Z
LAST-MODIFIED:20260324T123205Z
UID:10018886-1778351400-1778355900@www.grabugemag.com
SUMMARY:Impro Royale
DESCRIPTION:Cinq improvisateur·ices\, cinq histoires en compétition\, une seule survivra.Chacun leur tour\, ils deviennent metteur·se en scène et imposent leur univers : une époque\, un lieu\, un enjeu. Trois minutes pour séduire le public\, trois minutes pour faire exister leur vision. \nÀ la fin de chaque manche\, le public vote : une histoire disparaît\, les autres continuent… jusqu’à ce qu’il n’en reste qu’une.Un spectacle d’improvisation où les récits s’affrontent\, se transforment et s’éliminent sous vos yeux. \nhttps://www.facebook.com/events/2271444910006397/?event_time_id=2271711036646451
URL:https://www.grabugemag.com/evenement/impro-royale-5/
LOCATION:14 rue de l’Arche sèche\, 14 rue de l'Arche sèche
CATEGORIES:Spectacle
ORGANIZER;CN="La Faille":MAILTO:noreply@facebookmail.com
END:VEVENT
END:VCALENDAR