BEGIN:VCALENDAR
VERSION:2.0
PRODID:-//Grabuge Mag - ECPv6.15.14//NONSGML v1.0//EN
CALSCALE:GREGORIAN
METHOD:PUBLISH
X-ORIGINAL-URL:https://www.grabugemag.com
X-WR-CALDESC:Évènements pour Grabuge Mag
REFRESH-INTERVAL;VALUE=DURATION:PT1H
X-Robots-Tag:noindex
X-PUBLISHED-TTL:PT1H
BEGIN:VTIMEZONE
TZID:Europe/Paris
BEGIN:DAYLIGHT
TZOFFSETFROM:+0100
TZOFFSETTO:+0200
TZNAME:CEST
DTSTART:20240331T010000
END:DAYLIGHT
BEGIN:STANDARD
TZOFFSETFROM:+0200
TZOFFSETTO:+0100
TZNAME:CET
DTSTART:20241027T010000
END:STANDARD
BEGIN:DAYLIGHT
TZOFFSETFROM:+0100
TZOFFSETTO:+0200
TZNAME:CEST
DTSTART:20250330T010000
END:DAYLIGHT
BEGIN:STANDARD
TZOFFSETFROM:+0200
TZOFFSETTO:+0100
TZNAME:CET
DTSTART:20251026T010000
END:STANDARD
BEGIN:DAYLIGHT
TZOFFSETFROM:+0100
TZOFFSETTO:+0200
TZNAME:CEST
DTSTART:20260329T010000
END:DAYLIGHT
BEGIN:STANDARD
TZOFFSETFROM:+0200
TZOFFSETTO:+0100
TZNAME:CET
DTSTART:20261025T010000
END:STANDARD
BEGIN:DAYLIGHT
TZOFFSETFROM:+0100
TZOFFSETTO:+0200
TZNAME:CEST
DTSTART:20270328T010000
END:DAYLIGHT
BEGIN:STANDARD
TZOFFSETFROM:+0200
TZOFFSETTO:+0100
TZNAME:CET
DTSTART:20271031T010000
END:STANDARD
END:VTIMEZONE
BEGIN:VEVENT
DTSTART;TZID=Europe/Paris:20260410T210000
DTEND;TZID=Europe/Paris:20260411T000000
DTSTAMP:20260424T164751
CREATED:20260323T121924Z
LAST-MODIFIED:20260323T121924Z
UID:10018677-1775854800-1775865600@www.grabugemag.com
SUMMARY:MALIBLUES fête ses 20 ans au ZYGOBAR
DESCRIPTION:MALIBLUES fête ses20 ans cette annéePour l’occasion nous vous réservons une soirée pleine de surprise.Né d’une passion commune pour la musique de la région du Mandé\, de la forêt Guinéenne au désert malien\, MALIBLUES se ré-approprie les thèmes et mélodies de la musique Mandingue. Insufflant une énergie rock teintée de jazz et de musique cubaine\, les 5 musiciens composent un répertoire original créant ainsi un pont entre l’occident et l’Afrique. La voix chaleureuse se mêle aux entrelacs mélodiques des cordes de la Kora cristalline et de la guitare. Des rythmiques savantes et syncopées\, rappelent Fela KUTI et son afrobeat.C’est plus de 200 concerts depuis sa création en 2006\,les 5 musiciens composent un répertoire originalen se ré-appropriant les thèmes et mélodies de la musique d’Afrique de l’Ouest. Insufflant une énergie rock teintée de jazz et de musique cubaine.
URL:https://www.grabugemag.com/evenement/maliblues-fete-ses-20-ans-au-zygobar/
LOCATION:35 Rue des Olivettes\, 44000 Nantes\, France\, 35 Rue des Olivettes\, 44000 Nantes\, France
CATEGORIES:Concert,Gratuit
ORGANIZER;CN="Mali Blues":MAILTO:noreply@facebookmail.com
END:VEVENT
BEGIN:VEVENT
DTSTART;TZID=Europe/Paris:20260226T210000
DTEND;TZID=Europe/Paris:20260227T000000
DTSTAMP:20260424T164751
CREATED:20260209T121247Z
LAST-MODIFIED:20260209T121247Z
UID:10017659-1772139600-1772150400@www.grabugemag.com
SUMMARY:Sweet Oaks au Zygobar
DESCRIPTION:Sweet Oaks vient réchauffer le Zygobar à Nantes le jeudi 26 février 2026! \nDu Reggae Funk’n Roll? C’est quoi ça? Si tu veux le savoir\, viens écouter\, 😉 \nDébut: 21HPAF: 5€
URL:https://www.grabugemag.com/evenement/sweet-oaks-au-zygobar/
LOCATION:35 Rue des Olivettes\, 44000 Nantes\, France\, 35 Rue des Olivettes\, 44000 Nantes\, France
CATEGORIES:Concert,Gratuit
END:VEVENT
BEGIN:VEVENT
DTSTART;TZID=Europe/Paris:20251113T203000
DTEND;TZID=Europe/Paris:20251113T233000
DTSTAMP:20260424T164751
CREATED:20251113T144610Z
LAST-MODIFIED:20251113T144610Z
UID:10016309-1763065800-1763076600@www.grabugemag.com
SUMMARY:OPEN-MIC DÉCLOISONNÉ #6 / AU ZYGOBAR
DESCRIPTION:Capsule d’Artiste à le plaisir de s’installer dans le café-concert le plus chaleureux de Nantes : Le zygobar pour la troisième édition de son Open-Mic Décloisonné. Jules\, Noa et Furax vont créer sous vos yeux les prods sur lesquelles vous allez déclamer. Jules se fera un malin plaisir à animer la scène.  \n5ans après son premier Open-Mic Décloisonné à Paris\, Capsule d’Artistes à décidé de refaire vivre cet événement avec lequel tout a commencé. Après le succès des premières rééditions au zygo nous revenons pour continuer de vous entendre vibrer derrière le micro.   \nC’est l’occasion de partager vos textes devant un public bienveillant et de faire des rencontres artistiques. Un guitariste\, un pianiste et un beatboxer seront là pour vous accompagner\, à vous de sentir si la prod convient à votre texte.   \nVenez\, asseyez-vous puis laissez-vous surprendre ✨ \nPAF 5€  \nPour participer – L’INSCRIPTION SUR PLACE OU PAR MAIL :               –> pour s’inscrire sur place rendez-vous 20h  \nOu envoyez un message sur nos réseaux en amont : – Nom et prénom– Style artistique (chant\, poésie\, rap\, standup\, danse etc.) – Titre du texte – Durée ( 7min max\, 2 textes par personne) \nhttps://www.facebook.com/events/1808111486551410/
URL:https://www.grabugemag.com/evenement/open-mic-decloisonne-6-au-zygobar/
LOCATION:35 Rue des Olivettes\, 44000 Nantes\, France\, 35 Rue des Olivettes\, 44000 Nantes\, France
CATEGORIES:Concert,Gratuit
ORGANIZER;CN="Capsule d'artistes":MAILTO:noreply@facebookmail.com
END:VEVENT
END:VCALENDAR