BEGIN:VCALENDAR
VERSION:2.0
PRODID:-//Grabuge Mag - ECPv6.15.14//NONSGML v1.0//EN
CALSCALE:GREGORIAN
METHOD:PUBLISH
X-WR-CALNAME:Grabuge Mag
X-ORIGINAL-URL:https://www.grabugemag.com
X-WR-CALDESC:Évènements pour Grabuge Mag
REFRESH-INTERVAL;VALUE=DURATION:PT1H
X-Robots-Tag:noindex
X-PUBLISHED-TTL:PT1H
BEGIN:VTIMEZONE
TZID:Europe/Paris
BEGIN:DAYLIGHT
TZOFFSETFROM:+0100
TZOFFSETTO:+0200
TZNAME:CEST
DTSTART:20250330T010000
END:DAYLIGHT
BEGIN:STANDARD
TZOFFSETFROM:+0200
TZOFFSETTO:+0100
TZNAME:CET
DTSTART:20251026T010000
END:STANDARD
BEGIN:DAYLIGHT
TZOFFSETFROM:+0100
TZOFFSETTO:+0200
TZNAME:CEST
DTSTART:20260329T010000
END:DAYLIGHT
BEGIN:STANDARD
TZOFFSETFROM:+0200
TZOFFSETTO:+0100
TZNAME:CET
DTSTART:20261025T010000
END:STANDARD
BEGIN:DAYLIGHT
TZOFFSETFROM:+0100
TZOFFSETTO:+0200
TZNAME:CEST
DTSTART:20270328T010000
END:DAYLIGHT
BEGIN:STANDARD
TZOFFSETFROM:+0200
TZOFFSETTO:+0100
TZNAME:CET
DTSTART:20271031T010000
END:STANDARD
END:VTIMEZONE
BEGIN:VEVENT
DTSTART;TZID=Europe/Paris:20260507T180000
DTEND;TZID=Europe/Paris:20260507T200000
DTSTAMP:20260423T171230
CREATED:20260414T073514Z
LAST-MODIFIED:20260414T073514Z
UID:10019020-1778176800-1778184000@www.grabugemag.com
SUMMARY:Visite "Nantaises dans la traite"
DESCRIPTION:Visite effectuée par la guide conférencière Françoise de Cossette. Gratuit sur inscription à contact@anneauxdelamemoire.org ou 02 40 69 68 52 \nA travers le portrait de plusieurs femmes nantaises\, découvrez l’histoire de Nantes et de la traite transatlantique au 18e siècle. La visite parcourt les rues du centre-ville jusqu’au mémorial de l’abolition de l’esclavage et montre les héritages architecturaux de l’histoire coloniale de Nantes.  \nLes Anneaux de la Mémoire travaillent à la proposition de nouvelles visites dans la lignée des balades décoloniales. L’année 2026 permet de déployer cette nouvelle approche\, plus sensible\, plus représentative.
URL:https://www.grabugemag.com/evenement/visite-nantaises-dans-la-traite/
LOCATION:Basilique Saint-Nicolas\, Place Félix Fournier\, Nantes\, 44000\, France
CATEGORIES:Gratuit
ATTACH;FMTTYPE=image/jpeg:https://www.grabugemag.com/wp-content/uploads/2026/04/1-2.jpg
GEO:47.2309942;-1.5557347
X-APPLE-STRUCTURED-LOCATION;VALUE=URI;X-ADDRESS=Basilique Saint-Nicolas Place Félix Fournier Nantes 44000 France;X-APPLE-RADIUS=500;X-TITLE=Place Félix Fournier:geo:-1.5557347,47.2309942
END:VEVENT
BEGIN:VEVENT
DTSTART;TZID=Europe/Paris:20260509T100000
DTEND;TZID=Europe/Paris:20260509T120000
DTSTAMP:20260423T171230
CREATED:20260413T105816Z
LAST-MODIFIED:20260413T105816Z
UID:10019013-1778320800-1778328000@www.grabugemag.com
SUMMARY:Visite "Nantaises dans la traite"
DESCRIPTION:Visite effectuée par la guide conférencière Françoise de Cossette. Gratuit sur inscription à contact@anneauxdelamemoire.org ou 02 40 69 68 52 \nA travers le portrait de plusieurs femmes nantaises\, découvrez l’histoire de Nantes et de la traite transatlantique au 18e siècle. La visite parcourt les rues du centre-ville jusqu’au mémorial de l’abolition de l’esclavage et montre les héritages architecturaux de l’histoire coloniale de Nantes.  \nLes Anneaux de la Mémoire travaillent à la proposition de nouvelles visites dans la lignée des balades décoloniales. L’année 2026 permet de déployer cette nouvelle approche\, plus sensible\, plus représentative.
URL:https://www.grabugemag.com/evenement/visite-nantaises-dans-la-traite-2/
LOCATION:Basilique Saint-Nicolas\, Place Félix Fournier\, Nantes\, 44000\, France
CATEGORIES:Gratuit
ATTACH;FMTTYPE=image/jpeg:https://www.grabugemag.com/wp-content/uploads/2026/04/1-1.jpg
GEO:47.2309942;-1.5557347
X-APPLE-STRUCTURED-LOCATION;VALUE=URI;X-ADDRESS=Basilique Saint-Nicolas Place Félix Fournier Nantes 44000 France;X-APPLE-RADIUS=500;X-TITLE=Place Félix Fournier:geo:-1.5557347,47.2309942
END:VEVENT
END:VCALENDAR