BEGIN:VCALENDAR
VERSION:2.0
PRODID:-//Grabuge Mag - ECPv6.15.14//NONSGML v1.0//EN
CALSCALE:GREGORIAN
METHOD:PUBLISH
X-WR-CALNAME:Grabuge Mag
X-ORIGINAL-URL:https://www.grabugemag.com
X-WR-CALDESC:Évènements pour Grabuge Mag
REFRESH-INTERVAL;VALUE=DURATION:PT1H
X-Robots-Tag:noindex
X-PUBLISHED-TTL:PT1H
BEGIN:VTIMEZONE
TZID:Europe/Paris
BEGIN:DAYLIGHT
TZOFFSETFROM:+0100
TZOFFSETTO:+0200
TZNAME:CEST
DTSTART:20250330T010000
END:DAYLIGHT
BEGIN:STANDARD
TZOFFSETFROM:+0200
TZOFFSETTO:+0100
TZNAME:CET
DTSTART:20251026T010000
END:STANDARD
BEGIN:DAYLIGHT
TZOFFSETFROM:+0100
TZOFFSETTO:+0200
TZNAME:CEST
DTSTART:20260329T010000
END:DAYLIGHT
BEGIN:STANDARD
TZOFFSETFROM:+0200
TZOFFSETTO:+0100
TZNAME:CET
DTSTART:20261025T010000
END:STANDARD
BEGIN:DAYLIGHT
TZOFFSETFROM:+0100
TZOFFSETTO:+0200
TZNAME:CEST
DTSTART:20270328T010000
END:DAYLIGHT
BEGIN:STANDARD
TZOFFSETFROM:+0200
TZOFFSETTO:+0100
TZNAME:CET
DTSTART:20271031T010000
END:STANDARD
END:VTIMEZONE
BEGIN:VEVENT
DTSTART;TZID=Europe/Paris:20260307T203000
DTEND;TZID=Europe/Paris:20260307T220000
DTSTAMP:20260420T134524
CREATED:20260206T130023Z
LAST-MODIFIED:20260206T130023Z
UID:10017618-1772915400-1772920800@www.grabugemag.com
SUMMARY:Voyage en comédie – Thomas Croisière
DESCRIPTION:80 minutes d’humour\, de cinéma… et de pur bonheur partagé!\nNotre nouveau Monsieur Cinéma\, Thomas Croisière\, vous embarque comme un capitaine de navire pour un tour jubilatoire à travers les plus grandes comédies françaises.\nÉmouvant\, passionnant et hilarant\, ce Voyage en comédie est une véritable déclaration d’amour au rire et au 7ᵉ art.\nRetrouvez les pépites qui nous font rire depuis des générations :\nLe Père Noël est une ordure\, La Grande Vadrouille\, L’Aventure c’est l’Aventure\, Astérix et Obélix\, Par où t’es rentré ? On t’a pas vu sortir…\nEntre anecdotes incroyables et souvenirs savoureux\, Thomas Croisière convoque sur scène Bebel\, Louis de Funès\, la troupe du Splendid\, Marie Laforêt\, Coluche\, Michel Serrault\, Sophie Marceau\, Vladimir Cosma et bien d’autres.\nUn spectacle pour tous – de 7 à 107 ans !\nTarif de 6 à 12€ et gratuit pour les moins de 18 ans\nBilletterie sur seetickets.com ou en mairie\nLe jour J sur place sous réserve des places restantes
URL:https://www.grabugemag.com/evenement/voyage-en-comedie-thomas-croisiere/
LOCATION:HORIZINC\, 2 Le génigan\, BOUVRON\, 44130
ATTACH;FMTTYPE=image/jpeg:https://www.grabugemag.com/wp-content/uploads/2026/02/Affiche-Thomas-Croisiere-2025.jpg
END:VEVENT
END:VCALENDAR