BEGIN:VCALENDAR
VERSION:2.0
PRODID:-//Grabuge Mag - ECPv6.15.14//NONSGML v1.0//EN
CALSCALE:GREGORIAN
METHOD:PUBLISH
X-WR-CALNAME:Grabuge Mag
X-ORIGINAL-URL:https://www.grabugemag.com
X-WR-CALDESC:Évènements pour Grabuge Mag
REFRESH-INTERVAL;VALUE=DURATION:PT1H
X-Robots-Tag:noindex
X-PUBLISHED-TTL:PT1H
BEGIN:VTIMEZONE
TZID:Europe/Paris
BEGIN:DAYLIGHT
TZOFFSETFROM:+0100
TZOFFSETTO:+0200
TZNAME:CEST
DTSTART:20260329T010000
END:DAYLIGHT
BEGIN:STANDARD
TZOFFSETFROM:+0200
TZOFFSETTO:+0100
TZNAME:CET
DTSTART:20261025T010000
END:STANDARD
BEGIN:DAYLIGHT
TZOFFSETFROM:+0100
TZOFFSETTO:+0200
TZNAME:CEST
DTSTART:20270328T010000
END:DAYLIGHT
BEGIN:STANDARD
TZOFFSETFROM:+0200
TZOFFSETTO:+0100
TZNAME:CET
DTSTART:20271031T010000
END:STANDARD
BEGIN:DAYLIGHT
TZOFFSETFROM:+0100
TZOFFSETTO:+0200
TZNAME:CEST
DTSTART:20280326T010000
END:DAYLIGHT
BEGIN:STANDARD
TZOFFSETFROM:+0200
TZOFFSETTO:+0100
TZNAME:CET
DTSTART:20281029T010000
END:STANDARD
END:VTIMEZONE
BEGIN:VEVENT
DTSTART;TZID=Europe/Paris:20270309T200000
DTEND;TZID=Europe/Paris:20270309T220000
DTSTAMP:20260419T174226
CREATED:20260409T091309Z
LAST-MODIFIED:20260409T091309Z
UID:10019006-1804622400-1804629600@www.grabugemag.com
SUMMARY:The U2 Experience
DESCRIPTION:The U2 Experience est bien plus qu’un hommage au légendaire groupe irlandais. C’est une expérience immersive qui transporte le public au cœur des concerts mythiques de U2.  \nBasé au Canada\, ce tribute band a su capturer l’essence et l’énergie du célèbre quatuor\, offrant une performance qui résonne avec authenticité et passion.  \nAprès avoir fait vibrer Las Vegas\, The U2 Experience arrive en France\, prêt à enflammer le public avec un répertoire fidèle et une mise en scène dynamique où chaque concert devient une célébration. The U2 Experience se distingue par sa capacité à recréer non seulement la musique\, mais également l’atmosphère unique des concerts de U2. \nPlus qu’un concert\, un véritable voyage au cœur de la légende.
URL:https://www.grabugemag.com/evenement/the-u2-experience/
LOCATION:Le Laps\, Rte de Saint-Joseph Route de\, Nantes\, 44300
CATEGORIES:Concert
ATTACH;FMTTYPE=image/jpeg:https://www.grabugemag.com/wp-content/uploads/2026/04/U2-Experience-Nantes-788x788-1.jpg
END:VEVENT
END:VCALENDAR