BEGIN:VCALENDAR
VERSION:2.0
PRODID:-//Grabuge Mag - ECPv6.15.14//NONSGML v1.0//EN
CALSCALE:GREGORIAN
METHOD:PUBLISH
X-WR-CALNAME:Grabuge Mag
X-ORIGINAL-URL:https://www.grabugemag.com
X-WR-CALDESC:Évènements pour Grabuge Mag
REFRESH-INTERVAL;VALUE=DURATION:PT1H
X-Robots-Tag:noindex
X-PUBLISHED-TTL:PT1H
BEGIN:VTIMEZONE
TZID:Europe/Paris
BEGIN:DAYLIGHT
TZOFFSETFROM:+0100
TZOFFSETTO:+0200
TZNAME:CEST
DTSTART:20250330T010000
END:DAYLIGHT
BEGIN:STANDARD
TZOFFSETFROM:+0200
TZOFFSETTO:+0100
TZNAME:CET
DTSTART:20251026T010000
END:STANDARD
BEGIN:DAYLIGHT
TZOFFSETFROM:+0100
TZOFFSETTO:+0200
TZNAME:CEST
DTSTART:20260329T010000
END:DAYLIGHT
BEGIN:STANDARD
TZOFFSETFROM:+0200
TZOFFSETTO:+0100
TZNAME:CET
DTSTART:20261025T010000
END:STANDARD
BEGIN:DAYLIGHT
TZOFFSETFROM:+0100
TZOFFSETTO:+0200
TZNAME:CEST
DTSTART:20270328T010000
END:DAYLIGHT
BEGIN:STANDARD
TZOFFSETFROM:+0200
TZOFFSETTO:+0100
TZNAME:CET
DTSTART:20271031T010000
END:STANDARD
END:VTIMEZONE
BEGIN:VEVENT
DTSTART;TZID=Europe/Paris:20260409T200000
DTEND;TZID=Europe/Paris:20260409T213000
DTSTAMP:20260424T050438
CREATED:20260227T115759Z
LAST-MODIFIED:20260227T115759Z
UID:10018399-1775764800-1775770200@www.grabugemag.com
SUMMARY:Le roi cerf
DESCRIPTION:Le roi Déramo doit se marier. Aidé par un buste magique qui détecte les vrais sentiments\, il trouve enfin femme. Mais Tartaglia\, son premier ministre\, jaloux parce que sa fille n’a pas été choisie et amoureux de l’heureuse élue\, lui soutire un secret puissant qui va lui permettre de prendre le pouvoir… Dans cette rencontre avec le merveilleux\, Carlo Gozzi auteur italien du XVIIIème siècle\, nous émerveille à la vraie naïveté\, celle du jeu et de l’amusement.
URL:https://www.grabugemag.com/evenement/le-roi-cerf/
LOCATION:Théâtre Francine Vasse\, 18 RUE COLBERT\, NANTES\, 44000\, France
CATEGORIES:Spectacle
ATTACH;FMTTYPE=image/jpeg:https://www.grabugemag.com/wp-content/uploads/2026/02/Proscenia-Roi-Cerf-photo-T.Vasse_.jpg
ORGANIZER;CN="Th%C3%A9%C3%A2tre Francine Vasse - Les Laboratoires Vivants":MAILTO:contact@leslaboratoiresvivants.com
GEO:47.2156211;-1.5688792
X-APPLE-STRUCTURED-LOCATION;VALUE=URI;X-ADDRESS=Théâtre Francine Vasse 18 RUE COLBERT NANTES 44000 France;X-APPLE-RADIUS=500;X-TITLE=18 RUE COLBERT:geo:-1.5688792,47.2156211
END:VEVENT
BEGIN:VEVENT
DTSTART;TZID=Europe/Paris:20260401T200000
DTEND;TZID=Europe/Paris:20260401T213000
DTSTAMP:20260424T050438
CREATED:20260227T114147Z
LAST-MODIFIED:20260227T114147Z
UID:10018398-1775073600-1775079000@www.grabugemag.com
SUMMARY:Hôtel des deux mondes
DESCRIPTION:Le Théâtrerit invite le public à découvrir Hôtel des deux mondes\, la pièce vibrante d’Eric-Emmanuel Schmitt\, mise en scène par Léo Bossavit pour cette nouvelle saison pour prendre du plaisir et soutenir le Théâtre Solidaire. Une partie des bénéfices seront reversés à des Associations Caritatives d’Utilité Publique. \nAucun client ne sait comment il est arrivé à l’Hôtel des deux mondes. Ni quand il en repartira. Dans ce lieu étrange\, tout devient possible\, même les miracles. Huit personnes s’interrogent\, se disputent\, se moquent\, s’attendrissent\, voire s’aiment. Certains changeront\, d’autres pas\, chacun restant le maître de son chemin. Un suspense métaphysique entre rêve et réalité\, une comédie philosophique où l’on poursuit sa recherche éperdue du sens et pose le mystère comme raison même d’espérer. \n“On vit souvent en oubliant qu’on est vivant. On cesse de se rappeler qu’on a reçu un étrange\, intense et magnifique cadeau : la vie. »\nEric-Emmanuel Schmitt \nReprésentation audiodécrite le vendredi 3 avril 2026 à 14h30
URL:https://www.grabugemag.com/evenement/hotel-des-deux-mondes/2026-04-01/
LOCATION:Théâtre Francine Vasse\, 18 RUE COLBERT\, NANTES\, 44000\, France
CATEGORIES:Spectacle
ATTACH;FMTTYPE=image/jpeg:https://www.grabugemag.com/wp-content/uploads/2026/02/Affiche-Hotel-des-2-mondes-HD-bon-logo.jpg
ORGANIZER;CN="Th%C3%A9%C3%A2tre Francine Vasse - Les Laboratoires Vivants":MAILTO:contact@leslaboratoiresvivants.com
GEO:47.2156211;-1.5688792
X-APPLE-STRUCTURED-LOCATION;VALUE=URI;X-ADDRESS=Théâtre Francine Vasse 18 RUE COLBERT NANTES 44000 France;X-APPLE-RADIUS=500;X-TITLE=18 RUE COLBERT:geo:-1.5688792,47.2156211
END:VEVENT
BEGIN:VEVENT
DTSTART;TZID=Europe/Paris:20260317T200000
DTEND;TZID=Europe/Paris:20260317T213000
DTSTAMP:20260424T050438
CREATED:20260227T112315Z
LAST-MODIFIED:20260227T112315Z
UID:10018397-1773777600-1773783000@www.grabugemag.com
SUMMARY:12 jurés en colère
DESCRIPTION:Dehors un orage est sur le point d’éclater. 12 protagonistes sont sous le poids de la fatigue et de la chaleur. Une seule envie : en finir avec cette affaire qui ne semble pas souffrir de discussion : coupable ou non coupable. \nAux États-Unis\, un verdict ne peut être rendu qu’à l’unanimité des votants. Début de scène : 1er vote : 11 pour « coupable ‘’ et 1 pour « non coupable »…  Mettant en scène celles et ceux appelés à juger le sort d’un jeune homme accusé de parricide\, cette intrigue à huis clos offre une plongée dans la psychologie des personnages confrontés aux stéréotypes et aux préjugés. \nÀ partir de 13 ans
URL:https://www.grabugemag.com/evenement/12-jures-en-colere/
LOCATION:Théâtre Francine Vasse\, 18 RUE COLBERT\, NANTES\, 44000\, France
CATEGORIES:Spectacle
ATTACH;FMTTYPE=image/jpeg:https://www.grabugemag.com/wp-content/uploads/2026/02/affiche-jurés-vasse.jpg
ORGANIZER;CN="Th%C3%A9%C3%A2tre Francine Vasse - Les Laboratoires Vivants":MAILTO:contact@leslaboratoiresvivants.com
GEO:47.2156211;-1.5688792
X-APPLE-STRUCTURED-LOCATION;VALUE=URI;X-ADDRESS=Théâtre Francine Vasse 18 RUE COLBERT NANTES 44000 France;X-APPLE-RADIUS=500;X-TITLE=18 RUE COLBERT:geo:-1.5688792,47.2156211
END:VEVENT
BEGIN:VEVENT
DTSTART;TZID=Europe/Paris:20260312T190000
DTEND;TZID=Europe/Paris:20260312T200000
DTSTAMP:20260424T050438
CREATED:20260227T110505Z
LAST-MODIFIED:20260227T110505Z
UID:10018396-1773342000-1773345600@www.grabugemag.com
SUMMARY:Pister l'invisible
DESCRIPTION:Pister l’invisible est une exploration menée envers les vivants invisibles qui peuplent nos corps et qui nous entourent. Il semble que nous sommes en vérité\, des foules tremblantes et grouillantes. Voici l’histoire d’une quête curieuse\, parfois loufoque\, envers ce que l’on ne voit pas\, qui existe pourtant\, dans laquelle chercheur.es et étudiant.es de Nantes Université ont embarqué. Travaux pratiques de microbiologie\, récolte d’auto-portraits microbiens\, entretiens avec des chercheur·es de différents horizons et expérimentations esthétiques variées furent autant de pas aventureux vers celles·ux qui nous habitent. \nIl est l’heure de raconter joyeusement le chemin parcouru à travers une performance mêlant paroles glanées dans les labos\, expérimentations filmiques laborantines\, danse et improvisations musicales pour microbiote\, pour un moment à l’écoute de ce qui fait notre multitude et nous rend bien vivant·es. \n« Et pourtant nous sommes une foule tremblante\nDes corps qui grouillent\nPeuplés de bestioles qui habitent là\nNichées de toute part\nDes marées qui vont et viennent\nDe corps en corps\nHistoires invisibles\, ou presque\nSuis-je un Nous ? » \nDans le cadre de Pister l’invisible\, une résidence d’artistes à Nantes Université imaginée par la Direction culture avec le Collectif de la Meute
URL:https://www.grabugemag.com/evenement/pister-linvisible/
LOCATION:Théâtre Francine Vasse\, 18 RUE COLBERT\, NANTES\, 44000\, France
CATEGORIES:Gratuit
ATTACH;FMTTYPE=image/jpeg:https://www.grabugemag.com/wp-content/uploads/2026/02/DSC7553-2.jpg
ORGANIZER;CN="Th%C3%A9%C3%A2tre Francine Vasse - Les Laboratoires Vivants":MAILTO:contact@leslaboratoiresvivants.com
GEO:47.2156211;-1.5688792
X-APPLE-STRUCTURED-LOCATION;VALUE=URI;X-ADDRESS=Théâtre Francine Vasse 18 RUE COLBERT NANTES 44000 France;X-APPLE-RADIUS=500;X-TITLE=18 RUE COLBERT:geo:-1.5688792,47.2156211
END:VEVENT
END:VCALENDAR