BEGIN:VCALENDAR
VERSION:2.0
PRODID:-//Grabuge Mag - ECPv6.15.14//NONSGML v1.0//EN
CALSCALE:GREGORIAN
METHOD:PUBLISH
X-ORIGINAL-URL:https://www.grabugemag.com
X-WR-CALDESC:Évènements pour Grabuge Mag
REFRESH-INTERVAL;VALUE=DURATION:PT1H
X-Robots-Tag:noindex
X-PUBLISHED-TTL:PT1H
BEGIN:VTIMEZONE
TZID:Europe/Paris
BEGIN:DAYLIGHT
TZOFFSETFROM:+0100
TZOFFSETTO:+0200
TZNAME:CEST
DTSTART:20250330T010000
END:DAYLIGHT
BEGIN:STANDARD
TZOFFSETFROM:+0200
TZOFFSETTO:+0100
TZNAME:CET
DTSTART:20251026T010000
END:STANDARD
BEGIN:DAYLIGHT
TZOFFSETFROM:+0100
TZOFFSETTO:+0200
TZNAME:CEST
DTSTART:20260329T010000
END:DAYLIGHT
BEGIN:STANDARD
TZOFFSETFROM:+0200
TZOFFSETTO:+0100
TZNAME:CET
DTSTART:20261025T010000
END:STANDARD
BEGIN:DAYLIGHT
TZOFFSETFROM:+0100
TZOFFSETTO:+0200
TZNAME:CEST
DTSTART:20270328T010000
END:DAYLIGHT
BEGIN:STANDARD
TZOFFSETFROM:+0200
TZOFFSETTO:+0100
TZNAME:CET
DTSTART:20271031T010000
END:STANDARD
END:VTIMEZONE
BEGIN:VEVENT
DTSTART;TZID=Europe/Paris:20260420T183000
DTEND;TZID=Europe/Paris:20260420T203000
DTSTAMP:20260419T172055
CREATED:20260414T081123Z
LAST-MODIFIED:20260414T081123Z
UID:10019021-1776709800-1776717000@www.grabugemag.com
SUMMARY:Table ronde par Congo Bolingo
DESCRIPTION:20 avril – une table ronde\, un lundi soir\, pour mieux comprendre avec nous la situation en RDCongo\, pour un moment d’échange avec les membres de l’association Congo Bolingo. \n💬 Au programme :\nUn temps pour discuter\, poser vos questions\, approfondir certains sujets et partager ensemble. \nQue vous soyez curieux·se\, déjà sensibilisé·e ou simplement intéressé·e\, vous êtes les bienvenu·e·s !
URL:https://www.grabugemag.com/evenement/table-ronde-par-congo-bolingo/
LOCATION:OHM Town\, OHM Town
CATEGORIES:Lifestyle
ATTACH;FMTTYPE=image/jpeg:https://www.grabugemag.com/wp-content/uploads/2026/04/IMG_7334.jpeg
ORGANIZER;CN="OHM Town":MAILTO:noreply@facebookmail.com
GEO:47.1976862;-1.5891248
X-APPLE-STRUCTURED-LOCATION;VALUE=URI;X-ADDRESS=OHM Town OHM Town;X-APPLE-RADIUS=500;X-TITLE=OHM Town:geo:-1.5891248,47.1976862
END:VEVENT
END:VCALENDAR