BEGIN:VCALENDAR
VERSION:2.0
PRODID:-//Grabuge Mag - ECPv6.15.14//NONSGML v1.0//EN
CALSCALE:GREGORIAN
METHOD:PUBLISH
X-WR-CALNAME:Grabuge Mag
X-ORIGINAL-URL:https://www.grabugemag.com
X-WR-CALDESC:Évènements pour Grabuge Mag
REFRESH-INTERVAL;VALUE=DURATION:PT1H
X-Robots-Tag:noindex
X-PUBLISHED-TTL:PT1H
BEGIN:VTIMEZONE
TZID:Europe/Paris
BEGIN:DAYLIGHT
TZOFFSETFROM:+0100
TZOFFSETTO:+0200
TZNAME:CEST
DTSTART:20250330T010000
END:DAYLIGHT
BEGIN:STANDARD
TZOFFSETFROM:+0200
TZOFFSETTO:+0100
TZNAME:CET
DTSTART:20251026T010000
END:STANDARD
BEGIN:DAYLIGHT
TZOFFSETFROM:+0100
TZOFFSETTO:+0200
TZNAME:CEST
DTSTART:20260329T010000
END:DAYLIGHT
BEGIN:STANDARD
TZOFFSETFROM:+0200
TZOFFSETTO:+0100
TZNAME:CET
DTSTART:20261025T010000
END:STANDARD
BEGIN:DAYLIGHT
TZOFFSETFROM:+0100
TZOFFSETTO:+0200
TZNAME:CEST
DTSTART:20270328T010000
END:DAYLIGHT
BEGIN:STANDARD
TZOFFSETFROM:+0200
TZOFFSETTO:+0100
TZNAME:CET
DTSTART:20271031T010000
END:STANDARD
END:VTIMEZONE
BEGIN:VEVENT
DTSTART;TZID=Europe/Paris:20260419T200000
DTEND;TZID=Europe/Paris:20260419T220000
DTSTAMP:20260421T125615
CREATED:20260409T090411Z
LAST-MODIFIED:20260409T090411Z
UID:10019002-1776628800-1776636000@www.grabugemag.com
SUMMARY:Grease is the World
DESCRIPTION:GREASE is the Word – ‘l’Original’ \nL’histoire prend place en 1959 à la Rydell High School\, située en banlieue de Chicago\, sur fond de musique rock. Sandy\, qui vient d’intégrer son nouveau lycée\, y retrouve\, à sa grande surprise\, son amour d’été\, Danny Zuko\, désormais leader des T-Birds. Si elle est ravie de le revoir\, Danny\, lui\, est plus préoccupé par sa popularité et son rôle de chef de bande que par les sentiments de Sandy. Grâce à l’aide des Pink Ladies\, Sandy va réussir à s’imposer dans cette histoire d’amour pleine de rebondissements. \nPlongez dans les plus grands tubes chantés par plusieurs générations au cours des 50 dernières années : « You’re the One That I Want »\, « Sandy »\, « Hopelessly Devoted to You »\, « We Go Together » et bien d’autres chansons devenues des classiques intemporels. \nLe spectacle GREASE IS THE WORD vous promet une expérience inoubliable avec 14 chanteurs\, danseurs et comédiens\, accompagnés de 4 musiciens live. Une ambiance assurée que vous ne voudrez surtout pas manquer ! \nVoir moins
URL:https://www.grabugemag.com/evenement/grease-is-the-world/
LOCATION:Cité des Congrès\, 5 rue de Valmy\, Nantes\, 44000\, France
CATEGORIES:Spectacle
ATTACH;FMTTYPE=image/jpeg:https://www.grabugemag.com/wp-content/uploads/2026/04/Grease_2025_NANTES-Cite-des-Congres_1080x1080-1.jpg
GEO:47.2131428;-1.5427026
X-APPLE-STRUCTURED-LOCATION;VALUE=URI;X-ADDRESS=Cité des Congrès 5 rue de Valmy Nantes 44000 France;X-APPLE-RADIUS=500;X-TITLE=5 rue de Valmy:geo:-1.5427026,47.2131428
END:VEVENT
END:VCALENDAR