BEGIN:VCALENDAR
VERSION:2.0
PRODID:-//Grabuge Mag - ECPv6.15.14//NONSGML v1.0//EN
CALSCALE:GREGORIAN
METHOD:PUBLISH
X-WR-CALNAME:Grabuge Mag
X-ORIGINAL-URL:https://www.grabugemag.com
X-WR-CALDESC:Évènements pour Grabuge Mag
REFRESH-INTERVAL;VALUE=DURATION:PT1H
X-Robots-Tag:noindex
X-PUBLISHED-TTL:PT1H
BEGIN:VTIMEZONE
TZID:Europe/Paris
BEGIN:DAYLIGHT
TZOFFSETFROM:+0100
TZOFFSETTO:+0200
TZNAME:CEST
DTSTART:20250330T010000
END:DAYLIGHT
BEGIN:STANDARD
TZOFFSETFROM:+0200
TZOFFSETTO:+0100
TZNAME:CET
DTSTART:20251026T010000
END:STANDARD
BEGIN:DAYLIGHT
TZOFFSETFROM:+0100
TZOFFSETTO:+0200
TZNAME:CEST
DTSTART:20260329T010000
END:DAYLIGHT
BEGIN:STANDARD
TZOFFSETFROM:+0200
TZOFFSETTO:+0100
TZNAME:CET
DTSTART:20261025T010000
END:STANDARD
BEGIN:DAYLIGHT
TZOFFSETFROM:+0100
TZOFFSETTO:+0200
TZNAME:CEST
DTSTART:20270328T010000
END:DAYLIGHT
BEGIN:STANDARD
TZOFFSETFROM:+0200
TZOFFSETTO:+0100
TZNAME:CET
DTSTART:20271031T010000
END:STANDARD
BEGIN:DAYLIGHT
TZOFFSETFROM:+0100
TZOFFSETTO:+0200
TZNAME:CEST
DTSTART:20280326T010000
END:DAYLIGHT
BEGIN:STANDARD
TZOFFSETFROM:+0200
TZOFFSETTO:+0100
TZNAME:CET
DTSTART:20281029T010000
END:STANDARD
END:VTIMEZONE
BEGIN:VEVENT
DTSTART;TZID=Europe/Paris:20260419T200000
DTEND;TZID=Europe/Paris:20260419T220000
DTSTAMP:20260419T160433
CREATED:20260409T090411Z
LAST-MODIFIED:20260409T090411Z
UID:10019002-1776628800-1776636000@www.grabugemag.com
SUMMARY:Grease is the World
DESCRIPTION:GREASE is the Word – ‘l’Original’ \nL’histoire prend place en 1959 à la Rydell High School\, située en banlieue de Chicago\, sur fond de musique rock. Sandy\, qui vient d’intégrer son nouveau lycée\, y retrouve\, à sa grande surprise\, son amour d’été\, Danny Zuko\, désormais leader des T-Birds. Si elle est ravie de le revoir\, Danny\, lui\, est plus préoccupé par sa popularité et son rôle de chef de bande que par les sentiments de Sandy. Grâce à l’aide des Pink Ladies\, Sandy va réussir à s’imposer dans cette histoire d’amour pleine de rebondissements. \nPlongez dans les plus grands tubes chantés par plusieurs générations au cours des 50 dernières années : « You’re the One That I Want »\, « Sandy »\, « Hopelessly Devoted to You »\, « We Go Together » et bien d’autres chansons devenues des classiques intemporels. \nLe spectacle GREASE IS THE WORD vous promet une expérience inoubliable avec 14 chanteurs\, danseurs et comédiens\, accompagnés de 4 musiciens live. Une ambiance assurée que vous ne voudrez surtout pas manquer ! \nVoir moins
URL:https://www.grabugemag.com/evenement/grease-is-the-world/
LOCATION:Cité des Congrès\, 5 rue de Valmy\, Nantes\, 44000\, France
CATEGORIES:Spectacle
ATTACH;FMTTYPE=image/jpeg:https://www.grabugemag.com/wp-content/uploads/2026/04/Grease_2025_NANTES-Cite-des-Congres_1080x1080-1.jpg
GEO:47.2131428;-1.5427026
X-APPLE-STRUCTURED-LOCATION;VALUE=URI;X-ADDRESS=Cité des Congrès 5 rue de Valmy Nantes 44000 France;X-APPLE-RADIUS=500;X-TITLE=5 rue de Valmy:geo:-1.5427026,47.2131428
END:VEVENT
BEGIN:VEVENT
DTSTART;TZID=Europe/Paris:20260422T200000
DTEND;TZID=Europe/Paris:20260422T220000
DTSTAMP:20260419T160433
CREATED:20260409T090628Z
LAST-MODIFIED:20260409T090628Z
UID:10019003-1776888000-1776895200@www.grabugemag.com
SUMMARY:Le Lac des Cygnes - International Festival Ballet
DESCRIPTION:LE LAC DES CYGNES\, UN BALLET MYTHIQUE & INTEMPOREL\nL’International Festival Ballet présente une féerie de beauté\, d’élégance et de grâce. Une œuvre d’art accomplie accompagnée par l’orchestre live.\nCette pièce de ballet fait partie du répertoire standard de toutes les grandes compagnies. L’Allegro Moderato des danses du cygne du deuxième acte\, en particulier\, fait l’objet d’innombrables parodies dans la chorégraphie de Lev Ivanov et est donc connu sous le nom de « danse des quatre petits cygnes » bien au-delà du public amateur de ballet.\nEn bref : une œuvre géniale d’un compositeur génial et qui attire le public depuis des siècles déjà.                                                                                                                                      \nLe « Lac des cygnes » est présenté comme par magie sur scène par l’un des meilleurs ensembles de ballet classique\, l’International Festival Ballet. De plus\, les décors grandioses du génial designer de théâtre Vjatscheslav Okunev\, qui travaille entre autres pour le théâtre Mariinski de Saint-Pétersbourg et La Scala de Milan\, les magnifiques costumes et l’élégance sans limite et la légèreté insouciante de l' »International Festival Ballet » garantissent une version rêveuse et féerique d’un ballet classique qui fascine encore après plus de 100 ans.
URL:https://www.grabugemag.com/evenement/le-lac-des-cygnes-international-festival-ballet/
LOCATION:Zénith de Nantes\, Zénith de Nantes
CATEGORIES:Spectacle
ATTACH;FMTTYPE=image/jpeg:https://www.grabugemag.com/wp-content/uploads/2026/04/le-lac-des-cygnes-1080x1080-nantes.jpg
GEO:47.228721;-1.6279333
X-APPLE-STRUCTURED-LOCATION;VALUE=URI;X-ADDRESS=Zénith de Nantes Zénith de Nantes;X-APPLE-RADIUS=500;X-TITLE=Zénith de Nantes:geo:-1.6279333,47.228721
END:VEVENT
BEGIN:VEVENT
DTSTART;TZID=Europe/Paris:20261214T193000
DTEND;TZID=Europe/Paris:20261214T213000
DTSTAMP:20260419T160433
CREATED:20260409T090834Z
LAST-MODIFIED:20260409T090834Z
UID:10019004-1797276600-1797283800@www.grabugemag.com
SUMMARY:K-POP Forever !
DESCRIPTION:K-Pop Forever : le phénomène mondial débarque en live sur scène !\nVivez un show explosif célébrant la K-Pop avec les top titres de Blackpink\, BTS\, Twice\, Soda Pop\, Golden et bien d’autres.\nEntre performances 100 % live\, chorégraphies spectaculaires et effets visuels époustouflants\, K-Pop Forever vous plonge dans un univers immersif.\nLa K-Pop fait vibrer la planète — soyez au cœur de l’expérience !
URL:https://www.grabugemag.com/evenement/k-pop-forever/
LOCATION:Zénith de Nantes\, Zénith de Nantes
CATEGORIES:Concert,Spectacle
ATTACH;FMTTYPE=image/jpeg:https://www.grabugemag.com/wp-content/uploads/2026/04/KPOP-FOREVER_Nantes-Zenith_1080X1080px.jpg
GEO:47.228721;-1.6279333
X-APPLE-STRUCTURED-LOCATION;VALUE=URI;X-ADDRESS=Zénith de Nantes Zénith de Nantes;X-APPLE-RADIUS=500;X-TITLE=Zénith de Nantes:geo:-1.6279333,47.228721
END:VEVENT
BEGIN:VEVENT
DTSTART;TZID=Europe/Paris:20270228T150000
DTEND;TZID=Europe/Paris:20270228T150000
DTSTAMP:20260419T160433
CREATED:20260409T091015Z
LAST-MODIFIED:20260409T091015Z
UID:10019005-1803826800-1803826800@www.grabugemag.com
SUMMARY:FLASHDANCE - The Musical
DESCRIPTION:FLASHDANCE\nThe musical\nLe phénomène du film à succès Flashdance revient sur scène pour une tournée exceptionnelle dans toute la France !\nUne comédie musicale qui comprend les plus grands hits des années 80.\nLe spectacle Flashdance raconte l’histoire inoubliable d’Alex\, ouvrière dans une aciérie de Pittsburgh le jour\, et danseuse dans un bar la nuit\, rêvant de devenir un jour une star de la danse. Quand une romance avec son patron à l’usine\, menace de compliquer ses ambitions\, Alex apprend la signification de l’amour et se sert de son talent afin de réaliser son rêve.\nRetrouvez sur scène plus de 18 artistes qui vous feront danser sur les plus grands titres tels que « What a Feeling »\, « Maniac »\, « Gloria »\, « Manhunt »\, « I Love Rock & Roll »\, « Cameleon Girls »…
URL:https://www.grabugemag.com/evenement/flashdance-the-musical-2/
LOCATION:Zénith de Nantes\, Zénith de Nantes
CATEGORIES:Cinéma,Concert,Spectacle
ATTACH;FMTTYPE=image/jpeg:https://www.grabugemag.com/wp-content/uploads/2026/04/FLASHDANCE_NANTES-Zenith-1080x1080-1.jpg
GEO:47.228721;-1.6279333
X-APPLE-STRUCTURED-LOCATION;VALUE=URI;X-ADDRESS=Zénith de Nantes Zénith de Nantes;X-APPLE-RADIUS=500;X-TITLE=Zénith de Nantes:geo:-1.6279333,47.228721
END:VEVENT
BEGIN:VEVENT
DTSTART;TZID=Europe/Paris:20270309T200000
DTEND;TZID=Europe/Paris:20270309T220000
DTSTAMP:20260419T160433
CREATED:20260409T091309Z
LAST-MODIFIED:20260409T091309Z
UID:10019006-1804622400-1804629600@www.grabugemag.com
SUMMARY:The U2 Experience
DESCRIPTION:The U2 Experience est bien plus qu’un hommage au légendaire groupe irlandais. C’est une expérience immersive qui transporte le public au cœur des concerts mythiques de U2.  \nBasé au Canada\, ce tribute band a su capturer l’essence et l’énergie du célèbre quatuor\, offrant une performance qui résonne avec authenticité et passion.  \nAprès avoir fait vibrer Las Vegas\, The U2 Experience arrive en France\, prêt à enflammer le public avec un répertoire fidèle et une mise en scène dynamique où chaque concert devient une célébration. The U2 Experience se distingue par sa capacité à recréer non seulement la musique\, mais également l’atmosphère unique des concerts de U2. \nPlus qu’un concert\, un véritable voyage au cœur de la légende.
URL:https://www.grabugemag.com/evenement/the-u2-experience/
LOCATION:Le Laps\, Rte de Saint-Joseph Route de\, Nantes\, 44300
CATEGORIES:Concert
ATTACH;FMTTYPE=image/jpeg:https://www.grabugemag.com/wp-content/uploads/2026/04/U2-Experience-Nantes-788x788-1.jpg
END:VEVENT
END:VCALENDAR