BEGIN:VCALENDAR
VERSION:2.0
PRODID:-//Grabuge Mag - ECPv6.15.14//NONSGML v1.0//EN
CALSCALE:GREGORIAN
METHOD:PUBLISH
X-WR-CALNAME:Grabuge Mag
X-ORIGINAL-URL:https://www.grabugemag.com
X-WR-CALDESC:Évènements pour Grabuge Mag
REFRESH-INTERVAL;VALUE=DURATION:PT1H
X-Robots-Tag:noindex
X-PUBLISHED-TTL:PT1H
BEGIN:VTIMEZONE
TZID:Europe/Paris
BEGIN:DAYLIGHT
TZOFFSETFROM:+0100
TZOFFSETTO:+0200
TZNAME:CEST
DTSTART:20250330T010000
END:DAYLIGHT
BEGIN:STANDARD
TZOFFSETFROM:+0200
TZOFFSETTO:+0100
TZNAME:CET
DTSTART:20251026T010000
END:STANDARD
BEGIN:DAYLIGHT
TZOFFSETFROM:+0100
TZOFFSETTO:+0200
TZNAME:CEST
DTSTART:20260329T010000
END:DAYLIGHT
BEGIN:STANDARD
TZOFFSETFROM:+0200
TZOFFSETTO:+0100
TZNAME:CET
DTSTART:20261025T010000
END:STANDARD
BEGIN:DAYLIGHT
TZOFFSETFROM:+0100
TZOFFSETTO:+0200
TZNAME:CEST
DTSTART:20270328T010000
END:DAYLIGHT
BEGIN:STANDARD
TZOFFSETFROM:+0200
TZOFFSETTO:+0100
TZNAME:CET
DTSTART:20271031T010000
END:STANDARD
END:VTIMEZONE
BEGIN:VEVENT
DTSTART;TZID=Europe/Paris:20260430T200000
DTEND;TZID=Europe/Paris:20260430T230000
DTSTAMP:20260420T171022
CREATED:20260209T140138Z
LAST-MODIFIED:20260209T140138Z
UID:10018075-1777579200-1777590000@www.grabugemag.com
SUMMARY:Just Married Band & Violin - Concert à la Fraterne - 30.04
DESCRIPTION:Créé à l’occasion de leur mariage\, le duo est composé de Céline et Jérémy\, deux amoureux hauts en couleurs\, et désormais rejoint par Melodie au violon ou encore au Piano.Ces trois artistes français réinterprètent un répertoire pop/folk international\, dans l’air du temps\, en y ajoutant leur touche de fun. \nIls vous donnent rendez-vous le 30 avril 2026 pour un concert inédit & tout public ! ❤ \nLes infos à savoir sur nos soirées :✅ Entrée : gratuite !🍴 Pour manger sur place\, pensez à réserver votre table ♥➡ Retrouvez le programme de la Fraterne et toutes les infos sur notre compte Instagram : https://www.instagram.com/la_fraterne/➡ Vous aimez nos soirées ? Dites-le nous et laissez nous un avis sur google ! 🥰
URL:https://www.grabugemag.com/evenement/just-married-band-violin-concert-a-la-fraterne-30-04/
LOCATION:2 rue des Grandes Bosses\, 44220 Couëron\, France\, 2 rue des Grandes Bosses\, 44220 Couëron\, France
CATEGORIES:Concert,Gratuit
END:VEVENT
END:VCALENDAR