BEGIN:VCALENDAR
VERSION:2.0
PRODID:-//Grabuge Mag - ECPv6.15.14//NONSGML v1.0//EN
CALSCALE:GREGORIAN
METHOD:PUBLISH
X-ORIGINAL-URL:https://www.grabugemag.com
X-WR-CALDESC:Évènements pour Grabuge Mag
REFRESH-INTERVAL;VALUE=DURATION:PT1H
X-Robots-Tag:noindex
X-PUBLISHED-TTL:PT1H
BEGIN:VTIMEZONE
TZID:Europe/Paris
BEGIN:DAYLIGHT
TZOFFSETFROM:+0100
TZOFFSETTO:+0200
TZNAME:CEST
DTSTART:20250330T010000
END:DAYLIGHT
BEGIN:STANDARD
TZOFFSETFROM:+0200
TZOFFSETTO:+0100
TZNAME:CET
DTSTART:20251026T010000
END:STANDARD
BEGIN:DAYLIGHT
TZOFFSETFROM:+0100
TZOFFSETTO:+0200
TZNAME:CEST
DTSTART:20260329T010000
END:DAYLIGHT
BEGIN:STANDARD
TZOFFSETFROM:+0200
TZOFFSETTO:+0100
TZNAME:CET
DTSTART:20261025T010000
END:STANDARD
BEGIN:DAYLIGHT
TZOFFSETFROM:+0100
TZOFFSETTO:+0200
TZNAME:CEST
DTSTART:20270328T010000
END:DAYLIGHT
BEGIN:STANDARD
TZOFFSETFROM:+0200
TZOFFSETTO:+0100
TZNAME:CET
DTSTART:20271031T010000
END:STANDARD
END:VTIMEZONE
BEGIN:VEVENT
DTSTART;VALUE=DATE:20260510
DTEND;VALUE=DATE:20260511
DTSTAMP:20260423T165357
CREATED:20260421T131925Z
LAST-MODIFIED:20260421T131928Z
UID:10019170-1778371200-1778457599@www.grabugemag.com
SUMMARY:Pots de vin
DESCRIPTION:Le salon des vins vivants et de la céramique revient pour la 13éme édition. Savant équilibre entre les vins respectueux de la nature\, l’artisanat d’art et le spectacle vivant\, Pots de vin propose une journée festive pour déguster\, s’enjailler et profiter de la vie.
URL:https://www.grabugemag.com/evenement/pots-de-vin/
LOCATION:Rue des Halles\, 44190 Clisson\, France\, Rue des Halles\, 44190 Clisson\, France
CATEGORIES:Concert,Lifestyle,Spectacle
ATTACH;FMTTYPE=image/jpeg:https://www.grabugemag.com/wp-content/uploads/2026/04/AFFICHE_PDV_ODB_A1-2.jpg
ORGANIZER;CN="Le Bouillon":MAILTO:bouilloncollectif@gmail.com
END:VEVENT
END:VCALENDAR