BEGIN:VCALENDAR
VERSION:2.0
PRODID:-//Grabuge Mag - ECPv6.15.14//NONSGML v1.0//EN
CALSCALE:GREGORIAN
METHOD:PUBLISH
X-ORIGINAL-URL:https://www.grabugemag.com
X-WR-CALDESC:Évènements pour Grabuge Mag
REFRESH-INTERVAL;VALUE=DURATION:PT1H
X-Robots-Tag:noindex
X-PUBLISHED-TTL:PT1H
BEGIN:VTIMEZONE
TZID:Europe/Paris
BEGIN:DAYLIGHT
TZOFFSETFROM:+0100
TZOFFSETTO:+0200
TZNAME:CEST
DTSTART:20250330T010000
END:DAYLIGHT
BEGIN:STANDARD
TZOFFSETFROM:+0200
TZOFFSETTO:+0100
TZNAME:CET
DTSTART:20251026T010000
END:STANDARD
BEGIN:DAYLIGHT
TZOFFSETFROM:+0100
TZOFFSETTO:+0200
TZNAME:CEST
DTSTART:20260329T010000
END:DAYLIGHT
BEGIN:STANDARD
TZOFFSETFROM:+0200
TZOFFSETTO:+0100
TZNAME:CET
DTSTART:20261025T010000
END:STANDARD
BEGIN:DAYLIGHT
TZOFFSETFROM:+0100
TZOFFSETTO:+0200
TZNAME:CEST
DTSTART:20270328T010000
END:DAYLIGHT
BEGIN:STANDARD
TZOFFSETFROM:+0200
TZOFFSETTO:+0100
TZNAME:CET
DTSTART:20271031T010000
END:STANDARD
END:VTIMEZONE
BEGIN:VEVENT
DTSTART;TZID=Europe/Paris:20260409T100000
DTEND;TZID=Europe/Paris:20260926T180000
DTSTAMP:20260421T122458
CREATED:20260413T150116Z
LAST-MODIFIED:20260413T150116Z
UID:10019017-1775728800-1790445600@www.grabugemag.com
SUMMARY:De bois\, de pierres et de couleurs...
DESCRIPTION:Exposition qui met à l’honneur le dialogue entre les matières et les sensibilités. Bois\, pierres et pigments deviennent langage\, vibration\, mémoire vivante. Deux artistes\, deux parcours\, une même nécessité : créer. \nOdile Kayser\, plasticienne\n« Une vie entière penchée sur l’estran\, penchée au-dessus des grandes toiles étendues sur le sol de son atelier\, penchée sur le monde humain et animal comme si\, en scrutant ce qui l’entoure\, elle pouvait découvrir qui elle était. »\nDepuis l’enfance et ses châteaux de sable sur les plages de Normandie\, Odile Kaiser explore le geste et la matière. Crayons\, pinceaux\, scies\, cisailles : chaque outil devient prolongement du corps et de la pensée. \nSon travail est une tension permanente entre la main et la matière. D’un côté\, le corps engagé tout entier dans l’acte de créer. De l’autre\, la résistance du support. De cette confrontation naissent des œuvres traversées d’émotions\, de doutes\, d’éclats soudains.\nCar l’art\, chez elle\, est d’abord une expérience intérieure. Une obstination à donner forme à son univers. Un combat exigeant\, parfois rude\, mais illuminé de fulgurances : instants de grâce où tout s’aligne\, où la lumière traverse l’œuvre et l’artiste à la fois. Observer son travail\, c’est assister à un cheminement patient\, à une fidélité profonde à l’acte de créer. \nMarc Buléon\, marqueteries insolites\nConteur depuis 33 ans\, ancien ébéniste\, Marc Buléon alterne aujourd’hui spectacles et travail créatif du bois.\nDe la marqueterie traditionnelle\, il connaissait la précision et la rigueur. Aujourd’hui\, il recherche au contraire le jaillissement\, la joie\, la profondeur. Ainsi naissent ses « marqueteries insolites » : des tableaux réalisés à partir de placages colorés à cœur\, où le bois devient surface d’expression sensible. \nDans ses œuvres s’entrelacent les fils d’une vie :\nle travail du bois\,\nla musique\,\nl’écriture\,\nles voyages\,\nl’enfance. \nLes mots qu’il écrivait autrefois pour son activité de conteur résonnent aujourd’hui dans ses tableaux : \nRaconter\, dire\, être entendu.\nPartager le doute et le questionnement face à la vie.\nÊtre avec l’Autre\, lui tendre la main.\nNe rien prouver. Ouvrir plutôt. \nSes œuvres racontent. Elles questionnent. Elles invitent. \nUne rencontre de matières et de regards\nCette exposition est une conversation entre bois\, pierre et couleur. Entre densité et lumière. Entre deux artistes qui\, chacun à leur manière\, cherchent à donner forme à l’indicible.
URL:https://www.grabugemag.com/evenement/de-bois-de-pierres-et-de-couleurs/
LOCATION:Le Grand Lieu du Conte\, 2 rue des Frères Rousseau\, Saint-Aignan de Grand Lieu\, 44860\, France
CATEGORIES:Exposition
ATTACH;FMTTYPE=image/jpeg:https://www.grabugemag.com/wp-content/uploads/2026/04/2026_04_Expo_deboisdepierresdecouleurs_affiche.jpg
ORGANIZER;CN="les GRANDLIEU'ZARTS":MAILTO:contact@legrandlieuduconte.fr
GEO:47.1234851;-1.632949
X-APPLE-STRUCTURED-LOCATION;VALUE=URI;X-ADDRESS=Le Grand Lieu du Conte 2 rue des Frères Rousseau Saint-Aignan de Grand Lieu 44860 France;X-APPLE-RADIUS=500;X-TITLE=2 rue des Frères Rousseau:geo:-1.632949,47.1234851
END:VEVENT
END:VCALENDAR