BEGIN:VCALENDAR
VERSION:2.0
PRODID:-//Grabuge Mag - ECPv6.15.14//NONSGML v1.0//EN
CALSCALE:GREGORIAN
METHOD:PUBLISH
X-ORIGINAL-URL:https://www.grabugemag.com
X-WR-CALDESC:Évènements pour Grabuge Mag
REFRESH-INTERVAL;VALUE=DURATION:PT1H
X-Robots-Tag:noindex
X-PUBLISHED-TTL:PT1H
BEGIN:VTIMEZONE
TZID:Europe/Paris
BEGIN:DAYLIGHT
TZOFFSETFROM:+0100
TZOFFSETTO:+0200
TZNAME:CEST
DTSTART:20250330T010000
END:DAYLIGHT
BEGIN:STANDARD
TZOFFSETFROM:+0200
TZOFFSETTO:+0100
TZNAME:CET
DTSTART:20251026T010000
END:STANDARD
BEGIN:DAYLIGHT
TZOFFSETFROM:+0100
TZOFFSETTO:+0200
TZNAME:CEST
DTSTART:20260329T010000
END:DAYLIGHT
BEGIN:STANDARD
TZOFFSETFROM:+0200
TZOFFSETTO:+0100
TZNAME:CET
DTSTART:20261025T010000
END:STANDARD
BEGIN:DAYLIGHT
TZOFFSETFROM:+0100
TZOFFSETTO:+0200
TZNAME:CEST
DTSTART:20270328T010000
END:DAYLIGHT
BEGIN:STANDARD
TZOFFSETFROM:+0200
TZOFFSETTO:+0100
TZNAME:CET
DTSTART:20271031T010000
END:STANDARD
END:VTIMEZONE
BEGIN:VEVENT
DTSTART;TZID=Europe/Paris:20260507T220000
DTEND;TZID=Europe/Paris:20260509T070000
DTSTAMP:20260423T182006
CREATED:20260414T082450Z
LAST-MODIFIED:20260414T082450Z
UID:10019025-1778191200-1778310000@www.grabugemag.com
SUMMARY:DIVA
DESCRIPTION:Tourniquet infernal et tempête BPM\, Diva joue au Phoenix à chaque fois qu’elle le peut\, revient au galop en saupoudrant de paillettes un dancefloor de feu.\nHigh energy\, Hard groove\, Techno sulfureuse et House folle sont toujours les ingrédients de sa potion magique. \n34 heures d’un seul souffle.\nMacadam et OHM Town :\nun flux\, un chaos\, une lumière qui danse dans la nuit et le jour. \nAu programme à OHM Town : le live de Reine99\, et un set de l’une des résidentes OHBE\, Akira.
URL:https://www.grabugemag.com/evenement/diva/
LOCATION:OHM Town\, OHM Town
CATEGORIES:Concert,Lifestyle,Spectacle
ATTACH;FMTTYPE=image/png:https://www.grabugemag.com/wp-content/uploads/2026/04/DIVA-IG-2.png
ORGANIZER;CN="OHM Town":MAILTO:noreply@facebookmail.com
GEO:47.1976862;-1.5891248
X-APPLE-STRUCTURED-LOCATION;VALUE=URI;X-ADDRESS=OHM Town OHM Town;X-APPLE-RADIUS=500;X-TITLE=OHM Town:geo:-1.5891248,47.1976862
END:VEVENT
END:VCALENDAR