BEGIN:VCALENDAR
VERSION:2.0
PRODID:-//Grabuge Mag - ECPv6.15.14//NONSGML v1.0//EN
CALSCALE:GREGORIAN
METHOD:PUBLISH
X-ORIGINAL-URL:https://www.grabugemag.com
X-WR-CALDESC:Évènements pour Grabuge Mag
REFRESH-INTERVAL;VALUE=DURATION:PT1H
X-Robots-Tag:noindex
X-PUBLISHED-TTL:PT1H
BEGIN:VTIMEZONE
TZID:Europe/Paris
BEGIN:DAYLIGHT
TZOFFSETFROM:+0100
TZOFFSETTO:+0200
TZNAME:CEST
DTSTART:20250330T010000
END:DAYLIGHT
BEGIN:STANDARD
TZOFFSETFROM:+0200
TZOFFSETTO:+0100
TZNAME:CET
DTSTART:20251026T010000
END:STANDARD
BEGIN:DAYLIGHT
TZOFFSETFROM:+0100
TZOFFSETTO:+0200
TZNAME:CEST
DTSTART:20260329T010000
END:DAYLIGHT
BEGIN:STANDARD
TZOFFSETFROM:+0200
TZOFFSETTO:+0100
TZNAME:CET
DTSTART:20261025T010000
END:STANDARD
BEGIN:DAYLIGHT
TZOFFSETFROM:+0100
TZOFFSETTO:+0200
TZNAME:CEST
DTSTART:20270328T010000
END:DAYLIGHT
BEGIN:STANDARD
TZOFFSETFROM:+0200
TZOFFSETTO:+0100
TZNAME:CET
DTSTART:20271031T010000
END:STANDARD
END:VTIMEZONE
BEGIN:VEVENT
DTSTART;TZID=Europe/Paris:20260606T190000
DTEND;TZID=Europe/Paris:20260607T003000
DTSTAMP:20260424T174659
CREATED:20260422T091727Z
LAST-MODIFIED:20260422T091727Z
UID:10019171-1780772400-1780792200@www.grabugemag.com
SUMMARY:TEDAAK - MURMURES#12
DESCRIPTION:Pour sa 12ème édition\, MURMURES a l’honneur d’accueillir TedaAK (tekno\, rap\, punk\, queer) pour un événement entre rage et amour. Parce que tant de choses nous mettent en colère et qu’on a toustes besoin de beaux moments collectifs d’espoir\, d’énergie festive et de joie !  \nTedAak sera précédé de IAZU en 1ère partie (NewGen\, pop\, rap) et suivi du DJ set de Margoat (DJ Set Fun\, Pop\, Electro\, Tecℎno)
URL:https://www.grabugemag.com/evenement/tedaak-murmures12/
LOCATION:Oldegar\, Oldegar
CATEGORIES:Concert
ATTACH;FMTTYPE=image/jpeg:https://www.grabugemag.com/wp-content/uploads/2026/04/Shotgun_6juin_TedAak.jpg
ORGANIZER;CN="MURMURES":MAILTO:murmures.nantes@gmail.com
END:VEVENT
END:VCALENDAR