BEGIN:VCALENDAR
VERSION:2.0
PRODID:-//Grabuge Mag - ECPv6.15.14//NONSGML v1.0//EN
CALSCALE:GREGORIAN
METHOD:PUBLISH
X-ORIGINAL-URL:https://www.grabugemag.com
X-WR-CALDESC:Évènements pour Grabuge Mag
REFRESH-INTERVAL;VALUE=DURATION:PT1H
X-Robots-Tag:noindex
X-PUBLISHED-TTL:PT1H
BEGIN:VTIMEZONE
TZID:Europe/Paris
BEGIN:DAYLIGHT
TZOFFSETFROM:+0100
TZOFFSETTO:+0200
TZNAME:CEST
DTSTART:20250330T010000
END:DAYLIGHT
BEGIN:STANDARD
TZOFFSETFROM:+0200
TZOFFSETTO:+0100
TZNAME:CET
DTSTART:20251026T010000
END:STANDARD
BEGIN:DAYLIGHT
TZOFFSETFROM:+0100
TZOFFSETTO:+0200
TZNAME:CEST
DTSTART:20260329T010000
END:DAYLIGHT
BEGIN:STANDARD
TZOFFSETFROM:+0200
TZOFFSETTO:+0100
TZNAME:CET
DTSTART:20261025T010000
END:STANDARD
BEGIN:DAYLIGHT
TZOFFSETFROM:+0100
TZOFFSETTO:+0200
TZNAME:CEST
DTSTART:20270328T010000
END:DAYLIGHT
BEGIN:STANDARD
TZOFFSETFROM:+0200
TZOFFSETTO:+0100
TZNAME:CET
DTSTART:20271031T010000
END:STANDARD
END:VTIMEZONE
BEGIN:VEVENT
DTSTART;TZID=Europe/Paris:20260425T210000
DTEND;TZID=Europe/Paris:20260426T000000
DTSTAMP:20260423T165802
CREATED:20260209T125511Z
LAST-MODIFIED:20260209T125511Z
UID:10017901-1777150800-1777161600@www.grabugemag.com
SUMMARY:QAMELTO ★ TSAR ★ THE BLACK SHELTER
DESCRIPTION:Le BLACK SHELTER vous invite à une soirée Rock / Metal de folie le samedi 25 avril 2026 ! \n𝐐𝐀𝐌𝐄𝐋𝐓𝐎𝐑𝐎𝐂𝐊 𝐌𝐀𝐒𝐒𝐈𝐅 – 𝐂𝐋𝐄𝐑𝐌𝐎𝐍𝐓-𝐅𝐃 \nQamelto\, c’est l’appel du réel dans un monde qui s’égare. Pas d’idéologie\, pas de jugement\, juste une parole brute\, de la fougue et du bon sens. Du rock pour les exclus\, les déclassés\, ceux forcés de se taire. \nSur scène c’est une claque d’énergie si contagieuse qu’on tend l’autre joue avec plaisir \nFacebook : https://www.facebook.com/qameltoInstagram : https://www.instagram.com/qameltoYoutube : www.youtube.com/@Qamelto \n𝐓𝐒𝐀𝐑 𝐌𝐄𝐓𝐀𝐋 𝐀𝐋𝐓𝐄𝐑𝐍𝐀𝐓𝐈𝐅 – 𝐍𝐀𝐍𝐓𝐄𝐒 \nBienvenue dans l’univers torturé et décalé de TSAR !Entouré de ses 4 Acolytes dévoués\, Le Baron\, figure mystérieuse représentative du pouvoir\, dénonce toute la folie du monde. \nL’univers musical du groupe nantais oscille entre riffs metal et ambiances atmosphériques\, liés par une rythmique groove et une voix qui emporte.Chaque concert est un bal aussi mélodieux que frénétique\, un show théâtral appelant la foule à participer sans réserve à la cérémonie. \nFacebook : https://www.facebook.com/tsarofficiel/Instagram : https://www.instagram.com/tsarofficielYoutube : https://www.youtube.com/@tsarofficiel \n𝐁𝐈𝐋𝐋𝐄𝐓𝐓𝐄𝐑𝐈𝐄Prévente : 10 €Lien billetterie : https://www.helloasso.com/associations/cocorirock/evenements/qamelto-et-tsar-au-black-shelter-44Sur place : 12 €Contact billetterie : contact@qamelto.fr_________________𝐈𝐍𝐅𝐎𝐒 𝐏𝐑𝐀𝐓𝐈𝐐𝐔𝐄𝐒 :Concert : 21:00Ouverture billetterie : 19:30Accès parking gratuit 200 places à l’arrièreHôtels à proximité____________________𝐃𝐈𝐍𝐄𝐙 𝐒𝐔𝐑 𝐏𝐋𝐀𝐂𝐄avant votre entrée en salle en réservant au 02 40 25 22 23____________________𝐁𝐋𝐀𝐂𝐊 𝐒𝐇𝐄𝐋𝐓𝐄𝐑𝐑𝐍𝟐𝟐 – 𝐑𝐨𝐮𝐭𝐞 𝐝𝐞 𝐏𝐚𝐫𝐢𝐬𝟒𝟒𝟒𝟕𝟎 𝐂𝐀𝐑𝐐𝐔𝐄𝐅𝐎𝐔___________________𝐀𝐆𝐄𝐍𝐃𝐀 𝐂𝐎𝐍𝐂𝐄𝐑𝐓https://www.black-shelter.fr/
URL:https://www.grabugemag.com/evenement/qamelto-%e2%98%85-tsar-%e2%98%85-the-black-shelter/
LOCATION:Black Shelter\, Black Shelter
CATEGORIES:Concert
GEO:47.2669648;-1.4865875
X-APPLE-STRUCTURED-LOCATION;VALUE=URI;X-ADDRESS=Black Shelter Black Shelter;X-APPLE-RADIUS=500;X-TITLE=Black Shelter:geo:-1.4865875,47.2669648
END:VEVENT
END:VCALENDAR