BEGIN:VCALENDAR
VERSION:2.0
PRODID:-//Grabuge Mag - ECPv6.15.14//NONSGML v1.0//EN
CALSCALE:GREGORIAN
METHOD:PUBLISH
X-ORIGINAL-URL:https://www.grabugemag.com
X-WR-CALDESC:Évènements pour Grabuge Mag
REFRESH-INTERVAL;VALUE=DURATION:PT1H
X-Robots-Tag:noindex
X-PUBLISHED-TTL:PT1H
BEGIN:VTIMEZONE
TZID:Europe/Paris
BEGIN:DAYLIGHT
TZOFFSETFROM:+0100
TZOFFSETTO:+0200
TZNAME:CEST
DTSTART:20250330T010000
END:DAYLIGHT
BEGIN:STANDARD
TZOFFSETFROM:+0200
TZOFFSETTO:+0100
TZNAME:CET
DTSTART:20251026T010000
END:STANDARD
BEGIN:DAYLIGHT
TZOFFSETFROM:+0100
TZOFFSETTO:+0200
TZNAME:CEST
DTSTART:20260329T010000
END:DAYLIGHT
BEGIN:STANDARD
TZOFFSETFROM:+0200
TZOFFSETTO:+0100
TZNAME:CET
DTSTART:20261025T010000
END:STANDARD
BEGIN:DAYLIGHT
TZOFFSETFROM:+0100
TZOFFSETTO:+0200
TZNAME:CEST
DTSTART:20270328T010000
END:DAYLIGHT
BEGIN:STANDARD
TZOFFSETFROM:+0200
TZOFFSETTO:+0100
TZNAME:CET
DTSTART:20271031T010000
END:STANDARD
END:VTIMEZONE
BEGIN:VEVENT
DTSTART;TZID=Europe/Paris:20260424T173000
DTEND;TZID=Europe/Paris:20260424T180000
DTSTAMP:20260423T165629
CREATED:20260420T150247Z
LAST-MODIFIED:20260420T150247Z
UID:10019168-1777051800-1777053600@www.grabugemag.com
SUMMARY:La Botte
DESCRIPTION:C’est la tempête\, la mer gronde et le vent souffle. Elle finit par recracher sur la plage tout un tas de détritus. L’un après l’autre ils vont s’animer et s’assembler pour former les animaux marins de l’album : mouette\, pieuvre\, crabe\, cormoran\, phoque. Et chacun tour à tour\, cherchant un abri\, voudra se blottir dans la botte\, abandonnée sur son rocher. Ils y seront rapidement à l’étroit…\nY aura-t-il suffisamment de place pour tous ?
URL:https://www.grabugemag.com/evenement/la-botte-2/
LOCATION:Théâtre de l’Èvre\, 133 rue du Vieux-Bourg\, Le Marillais\, 49410\, France
CATEGORIES:Spectacle
ATTACH;FMTTYPE=image/jpeg:https://www.grabugemag.com/wp-content/uploads/2026/04/la-botte-1.jpg
ORGANIZER;CN="Th%C3%A9%C3%A2tre de l'%C3%88vre":MAILTO:contact@theatredelevre.fr
GEO:47.3618719;-1.0340784
X-APPLE-STRUCTURED-LOCATION;VALUE=URI;X-ADDRESS=Théâtre de l’Èvre 133 rue du Vieux-Bourg Le Marillais 49410 France;X-APPLE-RADIUS=500;X-TITLE=133 rue du Vieux-Bourg:geo:-1.0340784,47.3618719
END:VEVENT
BEGIN:VEVENT
DTSTART;TZID=Europe/Paris:20260508T203000
DTEND;TZID=Europe/Paris:20260508T213000
DTSTAMP:20260423T165629
CREATED:20260423T115705Z
LAST-MODIFIED:20260423T115705Z
UID:10019176-1778272200-1778275800@www.grabugemag.com
SUMMARY:La fenêtre d'en face
DESCRIPTION:Alexandre\, un écrivain vieillissant et désabusé\, vit reclus dans son appartement parisien. Un jour\, alors qu’il est au bord du suicide\, une jeune femme fait irruption chez lui sous prétexte de chercher son chat disparu. Sa présence inattendue va bouleverser son quotidien et raviver les fantômes du passé.\nUne comédie dramatique poignante sur la solitude\, les regrets\, la transmission et les secondes chances\, où la frontière entre fiction et réalité devient floue\, tout comme l’ombre d’un amour jamais oublié derrière la fenêtre d’en face.
URL:https://www.grabugemag.com/evenement/la-fenetre-den-face/
LOCATION:Théâtre de l’Èvre\, 133 rue du Vieux-Bourg\, Le Marillais\, 49410\, France
CATEGORIES:Spectacle
ATTACH;FMTTYPE=image/jpeg:https://www.grabugemag.com/wp-content/uploads/2026/04/Illustration_fenetre_den_facecompressee.jpeg
ORGANIZER;CN="Th%C3%A9%C3%A2tre de l'%C3%88vre":MAILTO:contact@theatredelevre.fr
GEO:47.3618719;-1.0340784
X-APPLE-STRUCTURED-LOCATION;VALUE=URI;X-ADDRESS=Théâtre de l’Èvre 133 rue du Vieux-Bourg Le Marillais 49410 France;X-APPLE-RADIUS=500;X-TITLE=133 rue du Vieux-Bourg:geo:-1.0340784,47.3618719
END:VEVENT
BEGIN:VEVENT
DTSTART;TZID=Europe/Paris:20260509T203000
DTEND;TZID=Europe/Paris:20260509T213000
DTSTAMP:20260423T165629
CREATED:20260423T120007Z
LAST-MODIFIED:20260423T120007Z
UID:10019177-1778358600-1778362200@www.grabugemag.com
SUMMARY:Le cimetière des éléphants
DESCRIPTION:Suivez le quotidien haut en couleurs de cinq vieilles dames\, passant leur retraite dans une pension de famille de la Côte du Soleil.\nLa routine s’est installée\, rythmée par la pluie\, les chamailleries\, le passé glorieux parfois réinventé.\nUn jour\, arrive Fernande\, un personnage dont le comportement éveille des suspicions…
URL:https://www.grabugemag.com/evenement/le-cimetiere-des-elephants/
LOCATION:Théâtre de l’Èvre\, 133 rue du Vieux-Bourg\, Le Marillais\, 49410\, France
CATEGORIES:Spectacle
ATTACH;FMTTYPE=image/jpeg:https://www.grabugemag.com/wp-content/uploads/2026/04/2164395655314953897.jpg
ORGANIZER;CN="Th%C3%A9%C3%A2tre de l'%C3%88vre":MAILTO:contact@theatredelevre.fr
GEO:47.3618719;-1.0340784
X-APPLE-STRUCTURED-LOCATION;VALUE=URI;X-ADDRESS=Théâtre de l’Èvre 133 rue du Vieux-Bourg Le Marillais 49410 France;X-APPLE-RADIUS=500;X-TITLE=133 rue du Vieux-Bourg:geo:-1.0340784,47.3618719
END:VEVENT
BEGIN:VEVENT
DTSTART;TZID=Europe/Paris:20260530T103000
DTEND;TZID=Europe/Paris:20260530T160000
DTSTAMP:20260423T165629
CREATED:20260423T121424Z
LAST-MODIFIED:20260423T133843Z
UID:10019178-1780137000-1780156800@www.grabugemag.com
SUMMARY:Atelier de Théâtre d'objets et Balade à vélo
DESCRIPTION:RDV à 10h30 pour une balade à vélo\, sportive et tranquille\, avec David de l’Atelier vélo La roue tourne. Puis\, enchaînez avec un atelier de théâtre d‘objets\, animé par les deux comédiens du spectacle Changement de braquet.
URL:https://www.grabugemag.com/evenement/changeons-de-braquet/
LOCATION:Théâtre de l’Èvre\, 133 rue du Vieux-Bourg\, Le Marillais\, 49410\, France
CATEGORIES:Gratuit,Spectacle
ATTACH;FMTTYPE=image/jpeg:https://www.grabugemag.com/wp-content/uploads/2026/04/20230625_DSC2911compressee.jpg
ORGANIZER;CN="Th%C3%A9%C3%A2tre de l'%C3%88vre":MAILTO:contact@theatredelevre.fr
GEO:47.3618719;-1.0340784
X-APPLE-STRUCTURED-LOCATION;VALUE=URI;X-ADDRESS=Théâtre de l’Èvre 133 rue du Vieux-Bourg Le Marillais 49410 France;X-APPLE-RADIUS=500;X-TITLE=133 rue du Vieux-Bourg:geo:-1.0340784,47.3618719
END:VEVENT
BEGIN:VEVENT
DTSTART;TZID=Europe/Paris:20260603T150000
DTEND;TZID=Europe/Paris:20260603T155000
DTSTAMP:20260423T165629
CREATED:20260423T121821Z
LAST-MODIFIED:20260423T121821Z
UID:10019179-1780498800-1780501800@www.grabugemag.com
SUMMARY:Aux pommes biscornues
DESCRIPTION:Le p’tit Jeannot grandit dans une famille qui raccommode\, reprise et répare. Puis il devient grand\, on l’appelle Monsieur Jean. Il est un homme ordinaire. Quand il a faim\, il ouvre son frigo et prend au hasard les aliments qui ne sont pas périmés. Au supermarché\, il achète sans réfléchir\, sans liste de courses\, en suivant les promotions. Il aime les jolis emballages qui lui promettent monts et merveilles\, et ça tombe bien\, il travaille dans une usine qui en produit. Mais un jour Monsieur Jean va rencontrer Mademoiselle Jeanne et toute sa vie s’en trouvera bouleversée. \nSur des thématiques qui tiennent à coeur à la compagnie du Nid on parle ici de gaspillage alimentaire\, de vrac\, d’économies d’énergie\, de sobriété sage mais aussi d’amour et de projets fous.\nUn spectacle de théâtre et de marionnettes-sacs pour toute la famille.
URL:https://www.grabugemag.com/evenement/aux-pommes-biscornues-2/
LOCATION:Théâtre de l’Èvre\, 133 rue du Vieux-Bourg\, Le Marillais\, 49410\, France
CATEGORIES:Spectacle
ATTACH;FMTTYPE=image/jpeg:https://www.grabugemag.com/wp-content/uploads/2026/04/AuxPommesBiscornues_02.jpg
ORGANIZER;CN="Th%C3%A9%C3%A2tre de l'%C3%88vre":MAILTO:contact@theatredelevre.fr
GEO:47.3618719;-1.0340784
X-APPLE-STRUCTURED-LOCATION;VALUE=URI;X-ADDRESS=Théâtre de l’Èvre 133 rue du Vieux-Bourg Le Marillais 49410 France;X-APPLE-RADIUS=500;X-TITLE=133 rue du Vieux-Bourg:geo:-1.0340784,47.3618719
END:VEVENT
BEGIN:VEVENT
DTSTART;TZID=Europe/Paris:20260606T203000
DTEND;TZID=Europe/Paris:20260606T215000
DTSTAMP:20260423T165629
CREATED:20260423T122412Z
LAST-MODIFIED:20260423T122412Z
UID:10019180-1780777800-1780782600@www.grabugemag.com
SUMMARY:Le démon de midi
DESCRIPTION:Un gentil couple à la quarantaine\, un petit garçon\, un joli appartement\, une maison à la campagne\, tout allait bien jusqu’à l’arrivée de la sale bête : le Démon de midi ! Notre héroïne découvre que son mari la trompe avec sa secrétaire\, quelle originalité me direz-vous\n! Dans ce spectacle adapté de la bande dessinée de Florence Cestac\, on décortique au scalpel ce sujet d’intérêt général\, des premiers symptômes à l’explosion finale\, en passant par les affres de la déprime intégrale « peignoir-canapé-kleenex ». « Toi\, tu es la femme de ma vie. Elle\, c’est autre chose\, c’est une fée »\, dit le héros avec la candeur touchante du mâle en route pour l’aventure. Le héros s’étant donc tiré avec la fée\, l’héroïne se pose des questions rétroactives sur son attitude\, découvre que tout le monde savait sauf elle\, écoute les conseils vaseux des copines\, tente de renouer avec d’anciens amants et en teste des tout neufs au rayon bricolage. Bref\, elle « gère » et … survit.
URL:https://www.grabugemag.com/evenement/le-demon-de-midi/
LOCATION:Théâtre de l’Èvre\, 133 rue du Vieux-Bourg\, Le Marillais\, 49410\, France
CATEGORIES:Spectacle
ATTACH;FMTTYPE=image/jpeg:https://www.grabugemag.com/wp-content/uploads/2026/04/Messenger_creation_FC6E047D-6CEF-4D16-A27C-5058C40237A7.jpeg
ORGANIZER;CN="Th%C3%A9%C3%A2tre de l'%C3%88vre":MAILTO:contact@theatredelevre.fr
GEO:47.3618719;-1.0340784
X-APPLE-STRUCTURED-LOCATION;VALUE=URI;X-ADDRESS=Théâtre de l’Èvre 133 rue du Vieux-Bourg Le Marillais 49410 France;X-APPLE-RADIUS=500;X-TITLE=133 rue du Vieux-Bourg:geo:-1.0340784,47.3618719
END:VEVENT
BEGIN:VEVENT
DTSTART;TZID=Europe/Paris:20260607T163000
DTEND;TZID=Europe/Paris:20260607T171500
DTSTAMP:20260423T165629
CREATED:20260423T122705Z
LAST-MODIFIED:20260423T122705Z
UID:10019181-1780849800-1780852500@www.grabugemag.com
SUMMARY:Et si j'étais...
DESCRIPTION:Aujourd’hui\, Emma fête son anniversaire. Au moment de souffler ses bougies et de faire son voeu\, elle se demande ce qu’elle fera quand elle sera grande. Grâce à sa valise magique\, elle va partir à l’aventure et devenir tour à tour maîtresse\, footballeuse\, princesse\, pirate\, magicienne… et même Présidente de la République ! Au fil des péripéties\, au lieu de répondre à cette sérieuse question d’avenir\, tout sera prétexte à s’amuser avec le public.
URL:https://www.grabugemag.com/evenement/et-si-jetais/
LOCATION:Théâtre de l’Èvre\, 133 rue du Vieux-Bourg\, Le Marillais\, 49410\, France
CATEGORIES:Spectacle
ATTACH;FMTTYPE=image/jpeg:https://www.grabugemag.com/wp-content/uploads/2026/04/received_1823445468082938.jpeg
ORGANIZER;CN="Th%C3%A9%C3%A2tre de l'%C3%88vre":MAILTO:contact@theatredelevre.fr
GEO:47.3618719;-1.0340784
X-APPLE-STRUCTURED-LOCATION;VALUE=URI;X-ADDRESS=Théâtre de l’Èvre 133 rue du Vieux-Bourg Le Marillais 49410 France;X-APPLE-RADIUS=500;X-TITLE=133 rue du Vieux-Bourg:geo:-1.0340784,47.3618719
END:VEVENT
BEGIN:VEVENT
DTSTART;TZID=Europe/Paris:20260622T143000
DTEND;TZID=Europe/Paris:20260622T153000
DTSTAMP:20260423T165629
CREATED:20260423T123003Z
LAST-MODIFIED:20260423T123003Z
UID:10019182-1782138600-1782142200@www.grabugemag.com
SUMMARY:Changement de braquet
DESCRIPTION:C’est l’histoire de Nathalie\, prisonnière d’une vie dictée par les valeurs héritées de son père\, un grand avocat.\nAu départ\, elle défend un projet de bétonisation d’une vallée naturelle au nom du profit mais son initiation au vélo et son immersion dans un club environnemental lui ouvrent les yeux sur la beauté du monde qu’elle contribue à détruire. Partagée entre sa carrière et ses convictions naissantes\, qu’en sera-t-il pour elle sur la ligne d’arrivée ?\nUne ode à la nature\, à la liberté et à la possibilité des bifurcations dans nos vies\, quel que soit notre point de départ.
URL:https://www.grabugemag.com/evenement/changement-de-braquet/2026-06-22/1/
LOCATION:Théâtre de l’Èvre\, 133 rue du Vieux-Bourg\, Le Marillais\, 49410\, France
CATEGORIES:Spectacle
ATTACH;FMTTYPE=image/jpeg:https://www.grabugemag.com/wp-content/uploads/2026/04/20250522_153357.jpg
ORGANIZER;CN="Th%C3%A9%C3%A2tre de l'%C3%88vre":MAILTO:contact@theatredelevre.fr
GEO:47.3618719;-1.0340784
X-APPLE-STRUCTURED-LOCATION;VALUE=URI;X-ADDRESS=Théâtre de l’Èvre 133 rue du Vieux-Bourg Le Marillais 49410 France;X-APPLE-RADIUS=500;X-TITLE=133 rue du Vieux-Bourg:geo:-1.0340784,47.3618719
END:VEVENT
BEGIN:VEVENT
DTSTART;TZID=Europe/Paris:20260622T193000
DTEND;TZID=Europe/Paris:20260622T203000
DTSTAMP:20260423T165629
CREATED:20260423T123003Z
LAST-MODIFIED:20260423T123003Z
UID:10019183-1782156600-1782160200@www.grabugemag.com
SUMMARY:Changement de braquet
DESCRIPTION:C’est l’histoire de Nathalie\, prisonnière d’une vie dictée par les valeurs héritées de son père\, un grand avocat.\nAu départ\, elle défend un projet de bétonisation d’une vallée naturelle au nom du profit mais son initiation au vélo et son immersion dans un club environnemental lui ouvrent les yeux sur la beauté du monde qu’elle contribue à détruire. Partagée entre sa carrière et ses convictions naissantes\, qu’en sera-t-il pour elle sur la ligne d’arrivée ?\nUne ode à la nature\, à la liberté et à la possibilité des bifurcations dans nos vies\, quel que soit notre point de départ.
URL:https://www.grabugemag.com/evenement/changement-de-braquet/2026-06-22/2/
LOCATION:Théâtre de l’Èvre\, 133 rue du Vieux-Bourg\, Le Marillais\, 49410\, France
CATEGORIES:Spectacle
ATTACH;FMTTYPE=image/jpeg:https://www.grabugemag.com/wp-content/uploads/2026/04/20250522_153357.jpg
ORGANIZER;CN="Th%C3%A9%C3%A2tre de l'%C3%88vre":MAILTO:contact@theatredelevre.fr
GEO:47.3618719;-1.0340784
X-APPLE-STRUCTURED-LOCATION;VALUE=URI;X-ADDRESS=Théâtre de l’Èvre 133 rue du Vieux-Bourg Le Marillais 49410 France;X-APPLE-RADIUS=500;X-TITLE=133 rue du Vieux-Bourg:geo:-1.0340784,47.3618719
END:VEVENT
END:VCALENDAR